BEGIN:VCALENDAR
VERSION:2.0
PRODID:-//Stutensee-Kinderkalender - ECPv6.15.20//NONSGML v1.0//EN
CALSCALE:GREGORIAN
METHOD:PUBLISH
X-WR-CALNAME:Stutensee-Kinderkalender
X-ORIGINAL-URL:https://stutenseekinderkalender.de
X-WR-CALDESC:Veranstaltungen für Stutensee-Kinderkalender
REFRESH-INTERVAL;VALUE=DURATION:PT1H
X-Robots-Tag:noindex
X-PUBLISHED-TTL:PT1H
BEGIN:VTIMEZONE
TZID:Europe/Berlin
BEGIN:DAYLIGHT
TZOFFSETFROM:+0100
TZOFFSETTO:+0200
TZNAME:CEST
DTSTART:20250330T010000
END:DAYLIGHT
BEGIN:STANDARD
TZOFFSETFROM:+0200
TZOFFSETTO:+0100
TZNAME:CET
DTSTART:20251026T010000
END:STANDARD
BEGIN:DAYLIGHT
TZOFFSETFROM:+0100
TZOFFSETTO:+0200
TZNAME:CEST
DTSTART:20260329T010000
END:DAYLIGHT
BEGIN:STANDARD
TZOFFSETFROM:+0200
TZOFFSETTO:+0100
TZNAME:CET
DTSTART:20261025T010000
END:STANDARD
BEGIN:DAYLIGHT
TZOFFSETFROM:+0100
TZOFFSETTO:+0200
TZNAME:CEST
DTSTART:20270328T010000
END:DAYLIGHT
BEGIN:STANDARD
TZOFFSETFROM:+0200
TZOFFSETTO:+0100
TZNAME:CET
DTSTART:20271031T010000
END:STANDARD
END:VTIMEZONE
BEGIN:VEVENT
DTSTART;TZID=Europe/Berlin:20260415T093000
DTEND;TZID=Europe/Berlin:20260415T120000
DTSTAMP:20260423T004127
CREATED:20251010T220044Z
LAST-MODIFIED:20251013T115239Z
UID:10005545-1776245400-1776254400@stutenseekinderkalender.de
SUMMARY:Krabbelgruppe im ev. Gemeindehaus Staffort
DESCRIPTION:Bist du im Alter von 0 bis 3 Jahren?\nDann komm doch zum…\n\n… Spielen\n… Singen\n… Freunde finden\n… Basteln und Malen\n… Feste feiern\nund weitere Aktionen in die Krabbelgruppe.\n\nWir freuen uns auf dich!\n\nAnsprechpartner: Janine Kirchner
URL:https://stutenseekinderkalender.de/event/krabbelgruppe-im-ev-gemeindehaus-staffort/2026-04-15/
LOCATION:Ev. Gemeindehaus Staffort\, Gartenstraße 31\, Stutensee-Staffort\, 76297\, Germany
CATEGORIES:Eltern-Baby-Treff,Eltern-Kind-Treff,Elterncafé,Krabbelgruppe
ATTACH;FMTTYPE=image/png:https://stutenseekinderkalender.de/wp-content/uploads/2025/10/31.png
ORGANIZER;CN="Kirchengemeinde Staffort-B%C3%BCchenau":MAILTO:staffort-buechenau@kbz.ekiba.de
END:VEVENT
BEGIN:VEVENT
DTSTART;TZID=Europe/Berlin:20260415T161500
DTEND;TZID=Europe/Berlin:20260415T171500
DTSTAMP:20260423T004127
CREATED:20260328T202448Z
LAST-MODIFIED:20260328T202608Z
UID:10010151-1776269700-1776273300@stutenseekinderkalender.de
SUMMARY:Abenteuer-Zwerge (4-6 Jahre)
DESCRIPTION:Eine bunte Gruppenstunde für kleine Entdecker. Einmal pro Woche wird gemeinsam gespielt\, gebastelt\, gesungen\, sich bewegt und die Welt entdeckt. \n\nStart: 15.04.2026\nTermin: mittwochs\nUhrzeit: 16:15 – 17:15 Uhr\nTreffpunkt: Gymnasiumstraße 16\, Blankenloch\nAlter: 4-6 Jahre\n\nInhalte: \n\nSpielen & Basteln\nBewegung & Sport\nSingen & Kreativität\nNeues entdecken & erforschen\n\nInfos & Anmeldung:Melanie Nagelmelanie.m.nagel@gmail.com
URL:https://stutenseekinderkalender.de/event/abenteuer-zwerge-4-6-jahre/2026-04-15/
LOCATION:Gymnasiumstraße 16\, Stutensee-Blankenloch\, Gymnasiumstraße 16\, Stutensee-Blankenloch\, 76297
CATEGORIES:Freizeitangebot,Kindertreff,Kreativangebot,Kurs,Spieltreff
ATTACH;FMTTYPE=image/jpeg:https://stutenseekinderkalender.de/wp-content/uploads/2026/03/Abenteuer-Zwerge-Melanie-e1774729396279.jpg
ORGANIZER;CN="Melanie Nagel":MAILTO:melanie.m.nagel@gmail.com
END:VEVENT
END:VCALENDAR