BEGIN:VCALENDAR
VERSION:2.0
PRODID:-//Stutensee-Kinderkalender - ECPv6.15.20//NONSGML v1.0//EN
CALSCALE:GREGORIAN
METHOD:PUBLISH
X-ORIGINAL-URL:https://stutenseekinderkalender.de
X-WR-CALDESC:Veranstaltungen für Stutensee-Kinderkalender
REFRESH-INTERVAL;VALUE=DURATION:PT1H
X-Robots-Tag:noindex
X-PUBLISHED-TTL:PT1H
BEGIN:VTIMEZONE
TZID:Europe/Berlin
BEGIN:DAYLIGHT
TZOFFSETFROM:+0100
TZOFFSETTO:+0200
TZNAME:CEST
DTSTART:20250330T010000
END:DAYLIGHT
BEGIN:STANDARD
TZOFFSETFROM:+0200
TZOFFSETTO:+0100
TZNAME:CET
DTSTART:20251026T010000
END:STANDARD
BEGIN:DAYLIGHT
TZOFFSETFROM:+0100
TZOFFSETTO:+0200
TZNAME:CEST
DTSTART:20260329T010000
END:DAYLIGHT
BEGIN:STANDARD
TZOFFSETFROM:+0200
TZOFFSETTO:+0100
TZNAME:CET
DTSTART:20261025T010000
END:STANDARD
BEGIN:DAYLIGHT
TZOFFSETFROM:+0100
TZOFFSETTO:+0200
TZNAME:CEST
DTSTART:20270328T010000
END:DAYLIGHT
BEGIN:STANDARD
TZOFFSETFROM:+0200
TZOFFSETTO:+0100
TZNAME:CET
DTSTART:20271031T010000
END:STANDARD
END:VTIMEZONE
BEGIN:VEVENT
DTSTART;TZID=Europe/Berlin:20260715T150000
DTEND;TZID=Europe/Berlin:20260715T170000
DTSTAMP:20260422T122356
CREATED:20260118T210537Z
LAST-MODIFIED:20260118T210537Z
UID:10008703-1784127600-1784134800@stutenseekinderkalender.de
SUMMARY:Spielzeit im GrauBau
DESCRIPTION:In der Spielzeit im GrauBau erwartet euch jede Woche ein neues Abenteuer: spannende Experimente\, kreative Bastelaktionen\, Bewegungsspiele\, Filme und gemeinsames Kochen oder Backen. Für Kinder zwischen 6 und 10 Jahren. \nJeden Mittwoch\, 15:00 – 17:00 Uhr \nDas Programm auf www.graubau-stutensee.de/open/ \nVeranstalter & KontaktTelefon: 07244969-276E-Mail: patricia.pichlardt@stutensee.de
URL:https://stutenseekinderkalender.de/event/spielzeit-im-graubau-3/2026-07-15/
LOCATION:GrauBau Jugendzentrum Stutensee\, Seegrabenweg 7\, Stutensee\, 76297\, Germany
CATEGORIES:Freizeitangebot,Kinderbetreuung,Kindertreff,Kreativangebot
ATTACH;FMTTYPE=image/jpeg:https://stutenseekinderkalender.de/wp-content/uploads/2025/10/graubau_spielzeit-e1759588536926.jpg
ORGANIZER;CN="GrauBau Jugendzentrum Stutensee":MAILTO:graubau@stutensee.de
END:VEVENT
BEGIN:VEVENT
DTSTART;TZID=Europe/Berlin:20260722T150000
DTEND;TZID=Europe/Berlin:20260722T170000
DTSTAMP:20260422T122356
CREATED:20260118T210537Z
LAST-MODIFIED:20260118T210537Z
UID:10008704-1784732400-1784739600@stutenseekinderkalender.de
SUMMARY:Spielzeit im GrauBau
DESCRIPTION:In der Spielzeit im GrauBau erwartet euch jede Woche ein neues Abenteuer: spannende Experimente\, kreative Bastelaktionen\, Bewegungsspiele\, Filme und gemeinsames Kochen oder Backen. Für Kinder zwischen 6 und 10 Jahren. \nJeden Mittwoch\, 15:00 – 17:00 Uhr \nDas Programm auf www.graubau-stutensee.de/open/ \nVeranstalter & KontaktTelefon: 07244969-276E-Mail: patricia.pichlardt@stutensee.de
URL:https://stutenseekinderkalender.de/event/spielzeit-im-graubau-3/2026-07-22/
LOCATION:GrauBau Jugendzentrum Stutensee\, Seegrabenweg 7\, Stutensee\, 76297\, Germany
CATEGORIES:Freizeitangebot,Kinderbetreuung,Kindertreff,Kreativangebot
ATTACH;FMTTYPE=image/jpeg:https://stutenseekinderkalender.de/wp-content/uploads/2025/10/graubau_spielzeit-e1759588536926.jpg
ORGANIZER;CN="GrauBau Jugendzentrum Stutensee":MAILTO:graubau@stutensee.de
END:VEVENT
BEGIN:VEVENT
DTSTART;TZID=Europe/Berlin:20260729T150000
DTEND;TZID=Europe/Berlin:20260729T170000
DTSTAMP:20260422T122356
CREATED:20260118T210537Z
LAST-MODIFIED:20260118T210537Z
UID:10008705-1785337200-1785344400@stutenseekinderkalender.de
SUMMARY:Spielzeit im GrauBau
DESCRIPTION:In der Spielzeit im GrauBau erwartet euch jede Woche ein neues Abenteuer: spannende Experimente\, kreative Bastelaktionen\, Bewegungsspiele\, Filme und gemeinsames Kochen oder Backen. Für Kinder zwischen 6 und 10 Jahren. \nJeden Mittwoch\, 15:00 – 17:00 Uhr \nDas Programm auf www.graubau-stutensee.de/open/ \nVeranstalter & KontaktTelefon: 07244969-276E-Mail: patricia.pichlardt@stutensee.de
URL:https://stutenseekinderkalender.de/event/spielzeit-im-graubau-3/2026-07-29/
LOCATION:GrauBau Jugendzentrum Stutensee\, Seegrabenweg 7\, Stutensee\, 76297\, Germany
CATEGORIES:Freizeitangebot,Kinderbetreuung,Kindertreff,Kreativangebot
ATTACH;FMTTYPE=image/jpeg:https://stutenseekinderkalender.de/wp-content/uploads/2025/10/graubau_spielzeit-e1759588536926.jpg
ORGANIZER;CN="GrauBau Jugendzentrum Stutensee":MAILTO:graubau@stutensee.de
END:VEVENT
BEGIN:VEVENT
DTSTART;TZID=Europe/Berlin:20260805T150000
DTEND;TZID=Europe/Berlin:20260805T170000
DTSTAMP:20260422T122356
CREATED:20260118T210537Z
LAST-MODIFIED:20260118T210537Z
UID:10008706-1785942000-1785949200@stutenseekinderkalender.de
SUMMARY:Spielzeit im GrauBau
DESCRIPTION:In der Spielzeit im GrauBau erwartet euch jede Woche ein neues Abenteuer: spannende Experimente\, kreative Bastelaktionen\, Bewegungsspiele\, Filme und gemeinsames Kochen oder Backen. Für Kinder zwischen 6 und 10 Jahren. \nJeden Mittwoch\, 15:00 – 17:00 Uhr \nDas Programm auf www.graubau-stutensee.de/open/ \nVeranstalter & KontaktTelefon: 07244969-276E-Mail: patricia.pichlardt@stutensee.de
URL:https://stutenseekinderkalender.de/event/spielzeit-im-graubau-3/2026-08-05/
LOCATION:GrauBau Jugendzentrum Stutensee\, Seegrabenweg 7\, Stutensee\, 76297\, Germany
CATEGORIES:Freizeitangebot,Kinderbetreuung,Kindertreff,Kreativangebot
ATTACH;FMTTYPE=image/jpeg:https://stutenseekinderkalender.de/wp-content/uploads/2025/10/graubau_spielzeit-e1759588536926.jpg
ORGANIZER;CN="GrauBau Jugendzentrum Stutensee":MAILTO:graubau@stutensee.de
END:VEVENT
BEGIN:VEVENT
DTSTART;TZID=Europe/Berlin:20260812T150000
DTEND;TZID=Europe/Berlin:20260812T170000
DTSTAMP:20260422T122356
CREATED:20260118T210537Z
LAST-MODIFIED:20260118T210537Z
UID:10008707-1786546800-1786554000@stutenseekinderkalender.de
SUMMARY:Spielzeit im GrauBau
DESCRIPTION:In der Spielzeit im GrauBau erwartet euch jede Woche ein neues Abenteuer: spannende Experimente\, kreative Bastelaktionen\, Bewegungsspiele\, Filme und gemeinsames Kochen oder Backen. Für Kinder zwischen 6 und 10 Jahren. \nJeden Mittwoch\, 15:00 – 17:00 Uhr \nDas Programm auf www.graubau-stutensee.de/open/ \nVeranstalter & KontaktTelefon: 07244969-276E-Mail: patricia.pichlardt@stutensee.de
URL:https://stutenseekinderkalender.de/event/spielzeit-im-graubau-3/2026-08-12/
LOCATION:GrauBau Jugendzentrum Stutensee\, Seegrabenweg 7\, Stutensee\, 76297\, Germany
CATEGORIES:Freizeitangebot,Kinderbetreuung,Kindertreff,Kreativangebot
ATTACH;FMTTYPE=image/jpeg:https://stutenseekinderkalender.de/wp-content/uploads/2025/10/graubau_spielzeit-e1759588536926.jpg
ORGANIZER;CN="GrauBau Jugendzentrum Stutensee":MAILTO:graubau@stutensee.de
END:VEVENT
BEGIN:VEVENT
DTSTART;TZID=Europe/Berlin:20260819T150000
DTEND;TZID=Europe/Berlin:20260819T170000
DTSTAMP:20260422T122356
CREATED:20260118T210537Z
LAST-MODIFIED:20260118T210537Z
UID:10008708-1787151600-1787158800@stutenseekinderkalender.de
SUMMARY:Spielzeit im GrauBau
DESCRIPTION:In der Spielzeit im GrauBau erwartet euch jede Woche ein neues Abenteuer: spannende Experimente\, kreative Bastelaktionen\, Bewegungsspiele\, Filme und gemeinsames Kochen oder Backen. Für Kinder zwischen 6 und 10 Jahren. \nJeden Mittwoch\, 15:00 – 17:00 Uhr \nDas Programm auf www.graubau-stutensee.de/open/ \nVeranstalter & KontaktTelefon: 07244969-276E-Mail: patricia.pichlardt@stutensee.de
URL:https://stutenseekinderkalender.de/event/spielzeit-im-graubau-3/2026-08-19/
LOCATION:GrauBau Jugendzentrum Stutensee\, Seegrabenweg 7\, Stutensee\, 76297\, Germany
CATEGORIES:Freizeitangebot,Kinderbetreuung,Kindertreff,Kreativangebot
ATTACH;FMTTYPE=image/jpeg:https://stutenseekinderkalender.de/wp-content/uploads/2025/10/graubau_spielzeit-e1759588536926.jpg
ORGANIZER;CN="GrauBau Jugendzentrum Stutensee":MAILTO:graubau@stutensee.de
END:VEVENT
BEGIN:VEVENT
DTSTART;TZID=Europe/Berlin:20260826T150000
DTEND;TZID=Europe/Berlin:20260826T170000
DTSTAMP:20260422T122356
CREATED:20260118T210537Z
LAST-MODIFIED:20260118T210537Z
UID:10008709-1787756400-1787763600@stutenseekinderkalender.de
SUMMARY:Spielzeit im GrauBau
DESCRIPTION:In der Spielzeit im GrauBau erwartet euch jede Woche ein neues Abenteuer: spannende Experimente\, kreative Bastelaktionen\, Bewegungsspiele\, Filme und gemeinsames Kochen oder Backen. Für Kinder zwischen 6 und 10 Jahren. \nJeden Mittwoch\, 15:00 – 17:00 Uhr \nDas Programm auf www.graubau-stutensee.de/open/ \nVeranstalter & KontaktTelefon: 07244969-276E-Mail: patricia.pichlardt@stutensee.de
URL:https://stutenseekinderkalender.de/event/spielzeit-im-graubau-3/2026-08-26/
LOCATION:GrauBau Jugendzentrum Stutensee\, Seegrabenweg 7\, Stutensee\, 76297\, Germany
CATEGORIES:Freizeitangebot,Kinderbetreuung,Kindertreff,Kreativangebot
ATTACH;FMTTYPE=image/jpeg:https://stutenseekinderkalender.de/wp-content/uploads/2025/10/graubau_spielzeit-e1759588536926.jpg
ORGANIZER;CN="GrauBau Jugendzentrum Stutensee":MAILTO:graubau@stutensee.de
END:VEVENT
BEGIN:VEVENT
DTSTART;TZID=Europe/Berlin:20260902T150000
DTEND;TZID=Europe/Berlin:20260902T170000
DTSTAMP:20260422T122356
CREATED:20260118T210537Z
LAST-MODIFIED:20260118T210537Z
UID:10008710-1788361200-1788368400@stutenseekinderkalender.de
SUMMARY:Spielzeit im GrauBau
DESCRIPTION:In der Spielzeit im GrauBau erwartet euch jede Woche ein neues Abenteuer: spannende Experimente\, kreative Bastelaktionen\, Bewegungsspiele\, Filme und gemeinsames Kochen oder Backen. Für Kinder zwischen 6 und 10 Jahren. \nJeden Mittwoch\, 15:00 – 17:00 Uhr \nDas Programm auf www.graubau-stutensee.de/open/ \nVeranstalter & KontaktTelefon: 07244969-276E-Mail: patricia.pichlardt@stutensee.de
URL:https://stutenseekinderkalender.de/event/spielzeit-im-graubau-3/2026-09-02/
LOCATION:GrauBau Jugendzentrum Stutensee\, Seegrabenweg 7\, Stutensee\, 76297\, Germany
CATEGORIES:Freizeitangebot,Kinderbetreuung,Kindertreff,Kreativangebot
ATTACH;FMTTYPE=image/jpeg:https://stutenseekinderkalender.de/wp-content/uploads/2025/10/graubau_spielzeit-e1759588536926.jpg
ORGANIZER;CN="GrauBau Jugendzentrum Stutensee":MAILTO:graubau@stutensee.de
END:VEVENT
BEGIN:VEVENT
DTSTART;TZID=Europe/Berlin:20260909T150000
DTEND;TZID=Europe/Berlin:20260909T170000
DTSTAMP:20260422T122356
CREATED:20260118T210537Z
LAST-MODIFIED:20260118T210537Z
UID:10008711-1788966000-1788973200@stutenseekinderkalender.de
SUMMARY:Spielzeit im GrauBau
DESCRIPTION:In der Spielzeit im GrauBau erwartet euch jede Woche ein neues Abenteuer: spannende Experimente\, kreative Bastelaktionen\, Bewegungsspiele\, Filme und gemeinsames Kochen oder Backen. Für Kinder zwischen 6 und 10 Jahren. \nJeden Mittwoch\, 15:00 – 17:00 Uhr \nDas Programm auf www.graubau-stutensee.de/open/ \nVeranstalter & KontaktTelefon: 07244969-276E-Mail: patricia.pichlardt@stutensee.de
URL:https://stutenseekinderkalender.de/event/spielzeit-im-graubau-3/2026-09-09/
LOCATION:GrauBau Jugendzentrum Stutensee\, Seegrabenweg 7\, Stutensee\, 76297\, Germany
CATEGORIES:Freizeitangebot,Kinderbetreuung,Kindertreff,Kreativangebot
ATTACH;FMTTYPE=image/jpeg:https://stutenseekinderkalender.de/wp-content/uploads/2025/10/graubau_spielzeit-e1759588536926.jpg
ORGANIZER;CN="GrauBau Jugendzentrum Stutensee":MAILTO:graubau@stutensee.de
END:VEVENT
BEGIN:VEVENT
DTSTART;TZID=Europe/Berlin:20260916T150000
DTEND;TZID=Europe/Berlin:20260916T170000
DTSTAMP:20260422T122356
CREATED:20260118T210537Z
LAST-MODIFIED:20260118T210537Z
UID:10008712-1789570800-1789578000@stutenseekinderkalender.de
SUMMARY:Spielzeit im GrauBau
DESCRIPTION:In der Spielzeit im GrauBau erwartet euch jede Woche ein neues Abenteuer: spannende Experimente\, kreative Bastelaktionen\, Bewegungsspiele\, Filme und gemeinsames Kochen oder Backen. Für Kinder zwischen 6 und 10 Jahren. \nJeden Mittwoch\, 15:00 – 17:00 Uhr \nDas Programm auf www.graubau-stutensee.de/open/ \nVeranstalter & KontaktTelefon: 07244969-276E-Mail: patricia.pichlardt@stutensee.de
URL:https://stutenseekinderkalender.de/event/spielzeit-im-graubau-3/2026-09-16/
LOCATION:GrauBau Jugendzentrum Stutensee\, Seegrabenweg 7\, Stutensee\, 76297\, Germany
CATEGORIES:Freizeitangebot,Kinderbetreuung,Kindertreff,Kreativangebot
ATTACH;FMTTYPE=image/jpeg:https://stutenseekinderkalender.de/wp-content/uploads/2025/10/graubau_spielzeit-e1759588536926.jpg
ORGANIZER;CN="GrauBau Jugendzentrum Stutensee":MAILTO:graubau@stutensee.de
END:VEVENT
BEGIN:VEVENT
DTSTART;TZID=Europe/Berlin:20260923T150000
DTEND;TZID=Europe/Berlin:20260923T170000
DTSTAMP:20260422T122356
CREATED:20260118T210537Z
LAST-MODIFIED:20260118T210537Z
UID:10008713-1790175600-1790182800@stutenseekinderkalender.de
SUMMARY:Spielzeit im GrauBau
DESCRIPTION:In der Spielzeit im GrauBau erwartet euch jede Woche ein neues Abenteuer: spannende Experimente\, kreative Bastelaktionen\, Bewegungsspiele\, Filme und gemeinsames Kochen oder Backen. Für Kinder zwischen 6 und 10 Jahren. \nJeden Mittwoch\, 15:00 – 17:00 Uhr \nDas Programm auf www.graubau-stutensee.de/open/ \nVeranstalter & KontaktTelefon: 07244969-276E-Mail: patricia.pichlardt@stutensee.de
URL:https://stutenseekinderkalender.de/event/spielzeit-im-graubau-3/2026-09-23/
LOCATION:GrauBau Jugendzentrum Stutensee\, Seegrabenweg 7\, Stutensee\, 76297\, Germany
CATEGORIES:Freizeitangebot,Kinderbetreuung,Kindertreff,Kreativangebot
ATTACH;FMTTYPE=image/jpeg:https://stutenseekinderkalender.de/wp-content/uploads/2025/10/graubau_spielzeit-e1759588536926.jpg
ORGANIZER;CN="GrauBau Jugendzentrum Stutensee":MAILTO:graubau@stutensee.de
END:VEVENT
BEGIN:VEVENT
DTSTART;TZID=Europe/Berlin:20260930T150000
DTEND;TZID=Europe/Berlin:20260930T170000
DTSTAMP:20260422T122356
CREATED:20260118T210537Z
LAST-MODIFIED:20260118T210537Z
UID:10008714-1790780400-1790787600@stutenseekinderkalender.de
SUMMARY:Spielzeit im GrauBau
DESCRIPTION:In der Spielzeit im GrauBau erwartet euch jede Woche ein neues Abenteuer: spannende Experimente\, kreative Bastelaktionen\, Bewegungsspiele\, Filme und gemeinsames Kochen oder Backen. Für Kinder zwischen 6 und 10 Jahren. \nJeden Mittwoch\, 15:00 – 17:00 Uhr \nDas Programm auf www.graubau-stutensee.de/open/ \nVeranstalter & KontaktTelefon: 07244969-276E-Mail: patricia.pichlardt@stutensee.de
URL:https://stutenseekinderkalender.de/event/spielzeit-im-graubau-3/2026-09-30/
LOCATION:GrauBau Jugendzentrum Stutensee\, Seegrabenweg 7\, Stutensee\, 76297\, Germany
CATEGORIES:Freizeitangebot,Kinderbetreuung,Kindertreff,Kreativangebot
ATTACH;FMTTYPE=image/jpeg:https://stutenseekinderkalender.de/wp-content/uploads/2025/10/graubau_spielzeit-e1759588536926.jpg
ORGANIZER;CN="GrauBau Jugendzentrum Stutensee":MAILTO:graubau@stutensee.de
END:VEVENT
BEGIN:VEVENT
DTSTART;TZID=Europe/Berlin:20261007T150000
DTEND;TZID=Europe/Berlin:20261007T170000
DTSTAMP:20260422T122356
CREATED:20260118T210537Z
LAST-MODIFIED:20260118T210537Z
UID:10008715-1791385200-1791392400@stutenseekinderkalender.de
SUMMARY:Spielzeit im GrauBau
DESCRIPTION:In der Spielzeit im GrauBau erwartet euch jede Woche ein neues Abenteuer: spannende Experimente\, kreative Bastelaktionen\, Bewegungsspiele\, Filme und gemeinsames Kochen oder Backen. Für Kinder zwischen 6 und 10 Jahren. \nJeden Mittwoch\, 15:00 – 17:00 Uhr \nDas Programm auf www.graubau-stutensee.de/open/ \nVeranstalter & KontaktTelefon: 07244969-276E-Mail: patricia.pichlardt@stutensee.de
URL:https://stutenseekinderkalender.de/event/spielzeit-im-graubau-3/2026-10-07/
LOCATION:GrauBau Jugendzentrum Stutensee\, Seegrabenweg 7\, Stutensee\, 76297\, Germany
CATEGORIES:Freizeitangebot,Kinderbetreuung,Kindertreff,Kreativangebot
ATTACH;FMTTYPE=image/jpeg:https://stutenseekinderkalender.de/wp-content/uploads/2025/10/graubau_spielzeit-e1759588536926.jpg
ORGANIZER;CN="GrauBau Jugendzentrum Stutensee":MAILTO:graubau@stutensee.de
END:VEVENT
BEGIN:VEVENT
DTSTART;TZID=Europe/Berlin:20261014T150000
DTEND;TZID=Europe/Berlin:20261014T170000
DTSTAMP:20260422T122356
CREATED:20260118T210537Z
LAST-MODIFIED:20260118T210537Z
UID:10008716-1791990000-1791997200@stutenseekinderkalender.de
SUMMARY:Spielzeit im GrauBau
DESCRIPTION:In der Spielzeit im GrauBau erwartet euch jede Woche ein neues Abenteuer: spannende Experimente\, kreative Bastelaktionen\, Bewegungsspiele\, Filme und gemeinsames Kochen oder Backen. Für Kinder zwischen 6 und 10 Jahren. \nJeden Mittwoch\, 15:00 – 17:00 Uhr \nDas Programm auf www.graubau-stutensee.de/open/ \nVeranstalter & KontaktTelefon: 07244969-276E-Mail: patricia.pichlardt@stutensee.de
URL:https://stutenseekinderkalender.de/event/spielzeit-im-graubau-3/2026-10-14/
LOCATION:GrauBau Jugendzentrum Stutensee\, Seegrabenweg 7\, Stutensee\, 76297\, Germany
CATEGORIES:Freizeitangebot,Kinderbetreuung,Kindertreff,Kreativangebot
ATTACH;FMTTYPE=image/jpeg:https://stutenseekinderkalender.de/wp-content/uploads/2025/10/graubau_spielzeit-e1759588536926.jpg
ORGANIZER;CN="GrauBau Jugendzentrum Stutensee":MAILTO:graubau@stutensee.de
END:VEVENT
BEGIN:VEVENT
DTSTART;TZID=Europe/Berlin:20261021T150000
DTEND;TZID=Europe/Berlin:20261021T170000
DTSTAMP:20260422T122356
CREATED:20260118T210537Z
LAST-MODIFIED:20260118T210537Z
UID:10008717-1792594800-1792602000@stutenseekinderkalender.de
SUMMARY:Spielzeit im GrauBau
DESCRIPTION:In der Spielzeit im GrauBau erwartet euch jede Woche ein neues Abenteuer: spannende Experimente\, kreative Bastelaktionen\, Bewegungsspiele\, Filme und gemeinsames Kochen oder Backen. Für Kinder zwischen 6 und 10 Jahren. \nJeden Mittwoch\, 15:00 – 17:00 Uhr \nDas Programm auf www.graubau-stutensee.de/open/ \nVeranstalter & KontaktTelefon: 07244969-276E-Mail: patricia.pichlardt@stutensee.de
URL:https://stutenseekinderkalender.de/event/spielzeit-im-graubau-3/2026-10-21/
LOCATION:GrauBau Jugendzentrum Stutensee\, Seegrabenweg 7\, Stutensee\, 76297\, Germany
CATEGORIES:Freizeitangebot,Kinderbetreuung,Kindertreff,Kreativangebot
ATTACH;FMTTYPE=image/jpeg:https://stutenseekinderkalender.de/wp-content/uploads/2025/10/graubau_spielzeit-e1759588536926.jpg
ORGANIZER;CN="GrauBau Jugendzentrum Stutensee":MAILTO:graubau@stutensee.de
END:VEVENT
BEGIN:VEVENT
DTSTART;TZID=Europe/Berlin:20261028T150000
DTEND;TZID=Europe/Berlin:20261028T170000
DTSTAMP:20260422T122356
CREATED:20260118T210537Z
LAST-MODIFIED:20260118T210537Z
UID:10008718-1793199600-1793206800@stutenseekinderkalender.de
SUMMARY:Spielzeit im GrauBau
DESCRIPTION:In der Spielzeit im GrauBau erwartet euch jede Woche ein neues Abenteuer: spannende Experimente\, kreative Bastelaktionen\, Bewegungsspiele\, Filme und gemeinsames Kochen oder Backen. Für Kinder zwischen 6 und 10 Jahren. \nJeden Mittwoch\, 15:00 – 17:00 Uhr \nDas Programm auf www.graubau-stutensee.de/open/ \nVeranstalter & KontaktTelefon: 07244969-276E-Mail: patricia.pichlardt@stutensee.de
URL:https://stutenseekinderkalender.de/event/spielzeit-im-graubau-3/2026-10-28/
LOCATION:GrauBau Jugendzentrum Stutensee\, Seegrabenweg 7\, Stutensee\, 76297\, Germany
CATEGORIES:Freizeitangebot,Kinderbetreuung,Kindertreff,Kreativangebot
ATTACH;FMTTYPE=image/jpeg:https://stutenseekinderkalender.de/wp-content/uploads/2025/10/graubau_spielzeit-e1759588536926.jpg
ORGANIZER;CN="GrauBau Jugendzentrum Stutensee":MAILTO:graubau@stutensee.de
END:VEVENT
BEGIN:VEVENT
DTSTART;TZID=Europe/Berlin:20261104T150000
DTEND;TZID=Europe/Berlin:20261104T170000
DTSTAMP:20260422T122356
CREATED:20260118T210537Z
LAST-MODIFIED:20260118T210537Z
UID:10008719-1793804400-1793811600@stutenseekinderkalender.de
SUMMARY:Spielzeit im GrauBau
DESCRIPTION:In der Spielzeit im GrauBau erwartet euch jede Woche ein neues Abenteuer: spannende Experimente\, kreative Bastelaktionen\, Bewegungsspiele\, Filme und gemeinsames Kochen oder Backen. Für Kinder zwischen 6 und 10 Jahren. \nJeden Mittwoch\, 15:00 – 17:00 Uhr \nDas Programm auf www.graubau-stutensee.de/open/ \nVeranstalter & KontaktTelefon: 07244969-276E-Mail: patricia.pichlardt@stutensee.de
URL:https://stutenseekinderkalender.de/event/spielzeit-im-graubau-3/2026-11-04/
LOCATION:GrauBau Jugendzentrum Stutensee\, Seegrabenweg 7\, Stutensee\, 76297\, Germany
CATEGORIES:Freizeitangebot,Kinderbetreuung,Kindertreff,Kreativangebot
ATTACH;FMTTYPE=image/jpeg:https://stutenseekinderkalender.de/wp-content/uploads/2025/10/graubau_spielzeit-e1759588536926.jpg
ORGANIZER;CN="GrauBau Jugendzentrum Stutensee":MAILTO:graubau@stutensee.de
END:VEVENT
BEGIN:VEVENT
DTSTART;TZID=Europe/Berlin:20261111T150000
DTEND;TZID=Europe/Berlin:20261111T170000
DTSTAMP:20260422T122356
CREATED:20260118T210537Z
LAST-MODIFIED:20260118T210537Z
UID:10008720-1794409200-1794416400@stutenseekinderkalender.de
SUMMARY:Spielzeit im GrauBau
DESCRIPTION:In der Spielzeit im GrauBau erwartet euch jede Woche ein neues Abenteuer: spannende Experimente\, kreative Bastelaktionen\, Bewegungsspiele\, Filme und gemeinsames Kochen oder Backen. Für Kinder zwischen 6 und 10 Jahren. \nJeden Mittwoch\, 15:00 – 17:00 Uhr \nDas Programm auf www.graubau-stutensee.de/open/ \nVeranstalter & KontaktTelefon: 07244969-276E-Mail: patricia.pichlardt@stutensee.de
URL:https://stutenseekinderkalender.de/event/spielzeit-im-graubau-3/2026-11-11/
LOCATION:GrauBau Jugendzentrum Stutensee\, Seegrabenweg 7\, Stutensee\, 76297\, Germany
CATEGORIES:Freizeitangebot,Kinderbetreuung,Kindertreff,Kreativangebot
ATTACH;FMTTYPE=image/jpeg:https://stutenseekinderkalender.de/wp-content/uploads/2025/10/graubau_spielzeit-e1759588536926.jpg
ORGANIZER;CN="GrauBau Jugendzentrum Stutensee":MAILTO:graubau@stutensee.de
END:VEVENT
BEGIN:VEVENT
DTSTART;TZID=Europe/Berlin:20261118T150000
DTEND;TZID=Europe/Berlin:20261118T170000
DTSTAMP:20260422T122356
CREATED:20260118T210537Z
LAST-MODIFIED:20260118T210537Z
UID:10008721-1795014000-1795021200@stutenseekinderkalender.de
SUMMARY:Spielzeit im GrauBau
DESCRIPTION:In der Spielzeit im GrauBau erwartet euch jede Woche ein neues Abenteuer: spannende Experimente\, kreative Bastelaktionen\, Bewegungsspiele\, Filme und gemeinsames Kochen oder Backen. Für Kinder zwischen 6 und 10 Jahren. \nJeden Mittwoch\, 15:00 – 17:00 Uhr \nDas Programm auf www.graubau-stutensee.de/open/ \nVeranstalter & KontaktTelefon: 07244969-276E-Mail: patricia.pichlardt@stutensee.de
URL:https://stutenseekinderkalender.de/event/spielzeit-im-graubau-3/2026-11-18/
LOCATION:GrauBau Jugendzentrum Stutensee\, Seegrabenweg 7\, Stutensee\, 76297\, Germany
CATEGORIES:Freizeitangebot,Kinderbetreuung,Kindertreff,Kreativangebot
ATTACH;FMTTYPE=image/jpeg:https://stutenseekinderkalender.de/wp-content/uploads/2025/10/graubau_spielzeit-e1759588536926.jpg
ORGANIZER;CN="GrauBau Jugendzentrum Stutensee":MAILTO:graubau@stutensee.de
END:VEVENT
BEGIN:VEVENT
DTSTART;TZID=Europe/Berlin:20261125T150000
DTEND;TZID=Europe/Berlin:20261125T170000
DTSTAMP:20260422T122356
CREATED:20260118T210537Z
LAST-MODIFIED:20260118T210537Z
UID:10008722-1795618800-1795626000@stutenseekinderkalender.de
SUMMARY:Spielzeit im GrauBau
DESCRIPTION:In der Spielzeit im GrauBau erwartet euch jede Woche ein neues Abenteuer: spannende Experimente\, kreative Bastelaktionen\, Bewegungsspiele\, Filme und gemeinsames Kochen oder Backen. Für Kinder zwischen 6 und 10 Jahren. \nJeden Mittwoch\, 15:00 – 17:00 Uhr \nDas Programm auf www.graubau-stutensee.de/open/ \nVeranstalter & KontaktTelefon: 07244969-276E-Mail: patricia.pichlardt@stutensee.de
URL:https://stutenseekinderkalender.de/event/spielzeit-im-graubau-3/2026-11-25/
LOCATION:GrauBau Jugendzentrum Stutensee\, Seegrabenweg 7\, Stutensee\, 76297\, Germany
CATEGORIES:Freizeitangebot,Kinderbetreuung,Kindertreff,Kreativangebot
ATTACH;FMTTYPE=image/jpeg:https://stutenseekinderkalender.de/wp-content/uploads/2025/10/graubau_spielzeit-e1759588536926.jpg
ORGANIZER;CN="GrauBau Jugendzentrum Stutensee":MAILTO:graubau@stutensee.de
END:VEVENT
BEGIN:VEVENT
DTSTART;TZID=Europe/Berlin:20261202T150000
DTEND;TZID=Europe/Berlin:20261202T170000
DTSTAMP:20260422T122356
CREATED:20260118T210537Z
LAST-MODIFIED:20260118T210537Z
UID:10008723-1796223600-1796230800@stutenseekinderkalender.de
SUMMARY:Spielzeit im GrauBau
DESCRIPTION:In der Spielzeit im GrauBau erwartet euch jede Woche ein neues Abenteuer: spannende Experimente\, kreative Bastelaktionen\, Bewegungsspiele\, Filme und gemeinsames Kochen oder Backen. Für Kinder zwischen 6 und 10 Jahren. \nJeden Mittwoch\, 15:00 – 17:00 Uhr \nDas Programm auf www.graubau-stutensee.de/open/ \nVeranstalter & KontaktTelefon: 07244969-276E-Mail: patricia.pichlardt@stutensee.de
URL:https://stutenseekinderkalender.de/event/spielzeit-im-graubau-3/2026-12-02/
LOCATION:GrauBau Jugendzentrum Stutensee\, Seegrabenweg 7\, Stutensee\, 76297\, Germany
CATEGORIES:Freizeitangebot,Kinderbetreuung,Kindertreff,Kreativangebot
ATTACH;FMTTYPE=image/jpeg:https://stutenseekinderkalender.de/wp-content/uploads/2025/10/graubau_spielzeit-e1759588536926.jpg
ORGANIZER;CN="GrauBau Jugendzentrum Stutensee":MAILTO:graubau@stutensee.de
END:VEVENT
BEGIN:VEVENT
DTSTART;TZID=Europe/Berlin:20261209T150000
DTEND;TZID=Europe/Berlin:20261209T170000
DTSTAMP:20260422T122356
CREATED:20260118T210537Z
LAST-MODIFIED:20260118T210537Z
UID:10008724-1796828400-1796835600@stutenseekinderkalender.de
SUMMARY:Spielzeit im GrauBau
DESCRIPTION:In der Spielzeit im GrauBau erwartet euch jede Woche ein neues Abenteuer: spannende Experimente\, kreative Bastelaktionen\, Bewegungsspiele\, Filme und gemeinsames Kochen oder Backen. Für Kinder zwischen 6 und 10 Jahren. \nJeden Mittwoch\, 15:00 – 17:00 Uhr \nDas Programm auf www.graubau-stutensee.de/open/ \nVeranstalter & KontaktTelefon: 07244969-276E-Mail: patricia.pichlardt@stutensee.de
URL:https://stutenseekinderkalender.de/event/spielzeit-im-graubau-3/2026-12-09/
LOCATION:GrauBau Jugendzentrum Stutensee\, Seegrabenweg 7\, Stutensee\, 76297\, Germany
CATEGORIES:Freizeitangebot,Kinderbetreuung,Kindertreff,Kreativangebot
ATTACH;FMTTYPE=image/jpeg:https://stutenseekinderkalender.de/wp-content/uploads/2025/10/graubau_spielzeit-e1759588536926.jpg
ORGANIZER;CN="GrauBau Jugendzentrum Stutensee":MAILTO:graubau@stutensee.de
END:VEVENT
BEGIN:VEVENT
DTSTART;TZID=Europe/Berlin:20261216T150000
DTEND;TZID=Europe/Berlin:20261216T170000
DTSTAMP:20260422T122356
CREATED:20260118T210537Z
LAST-MODIFIED:20260118T210537Z
UID:10008725-1797433200-1797440400@stutenseekinderkalender.de
SUMMARY:Spielzeit im GrauBau
DESCRIPTION:In der Spielzeit im GrauBau erwartet euch jede Woche ein neues Abenteuer: spannende Experimente\, kreative Bastelaktionen\, Bewegungsspiele\, Filme und gemeinsames Kochen oder Backen. Für Kinder zwischen 6 und 10 Jahren. \nJeden Mittwoch\, 15:00 – 17:00 Uhr \nDas Programm auf www.graubau-stutensee.de/open/ \nVeranstalter & KontaktTelefon: 07244969-276E-Mail: patricia.pichlardt@stutensee.de
URL:https://stutenseekinderkalender.de/event/spielzeit-im-graubau-3/2026-12-16/
LOCATION:GrauBau Jugendzentrum Stutensee\, Seegrabenweg 7\, Stutensee\, 76297\, Germany
CATEGORIES:Freizeitangebot,Kinderbetreuung,Kindertreff,Kreativangebot
ATTACH;FMTTYPE=image/jpeg:https://stutenseekinderkalender.de/wp-content/uploads/2025/10/graubau_spielzeit-e1759588536926.jpg
ORGANIZER;CN="GrauBau Jugendzentrum Stutensee":MAILTO:graubau@stutensee.de
END:VEVENT
BEGIN:VEVENT
DTSTART;TZID=Europe/Berlin:20261223T150000
DTEND;TZID=Europe/Berlin:20261223T170000
DTSTAMP:20260422T122356
CREATED:20260118T210537Z
LAST-MODIFIED:20260118T210537Z
UID:10008726-1798038000-1798045200@stutenseekinderkalender.de
SUMMARY:Spielzeit im GrauBau
DESCRIPTION:In der Spielzeit im GrauBau erwartet euch jede Woche ein neues Abenteuer: spannende Experimente\, kreative Bastelaktionen\, Bewegungsspiele\, Filme und gemeinsames Kochen oder Backen. Für Kinder zwischen 6 und 10 Jahren. \nJeden Mittwoch\, 15:00 – 17:00 Uhr \nDas Programm auf www.graubau-stutensee.de/open/ \nVeranstalter & KontaktTelefon: 07244969-276E-Mail: patricia.pichlardt@stutensee.de
URL:https://stutenseekinderkalender.de/event/spielzeit-im-graubau-3/2026-12-23/
LOCATION:GrauBau Jugendzentrum Stutensee\, Seegrabenweg 7\, Stutensee\, 76297\, Germany
CATEGORIES:Freizeitangebot,Kinderbetreuung,Kindertreff,Kreativangebot
ATTACH;FMTTYPE=image/jpeg:https://stutenseekinderkalender.de/wp-content/uploads/2025/10/graubau_spielzeit-e1759588536926.jpg
ORGANIZER;CN="GrauBau Jugendzentrum Stutensee":MAILTO:graubau@stutensee.de
END:VEVENT
BEGIN:VEVENT
DTSTART;TZID=Europe/Berlin:20261230T150000
DTEND;TZID=Europe/Berlin:20261230T170000
DTSTAMP:20260422T122356
CREATED:20260118T210537Z
LAST-MODIFIED:20260118T210537Z
UID:10008727-1798642800-1798650000@stutenseekinderkalender.de
SUMMARY:Spielzeit im GrauBau
DESCRIPTION:In der Spielzeit im GrauBau erwartet euch jede Woche ein neues Abenteuer: spannende Experimente\, kreative Bastelaktionen\, Bewegungsspiele\, Filme und gemeinsames Kochen oder Backen. Für Kinder zwischen 6 und 10 Jahren. \nJeden Mittwoch\, 15:00 – 17:00 Uhr \nDas Programm auf www.graubau-stutensee.de/open/ \nVeranstalter & KontaktTelefon: 07244969-276E-Mail: patricia.pichlardt@stutensee.de
URL:https://stutenseekinderkalender.de/event/spielzeit-im-graubau-3/2026-12-30/
LOCATION:GrauBau Jugendzentrum Stutensee\, Seegrabenweg 7\, Stutensee\, 76297\, Germany
CATEGORIES:Freizeitangebot,Kinderbetreuung,Kindertreff,Kreativangebot
ATTACH;FMTTYPE=image/jpeg:https://stutenseekinderkalender.de/wp-content/uploads/2025/10/graubau_spielzeit-e1759588536926.jpg
ORGANIZER;CN="GrauBau Jugendzentrum Stutensee":MAILTO:graubau@stutensee.de
END:VEVENT
END:VCALENDAR