BEGIN:VCALENDAR
VERSION:2.0
PRODID:-//Stutensee-Kinderkalender - ECPv6.15.20//NONSGML v1.0//EN
CALSCALE:GREGORIAN
METHOD:PUBLISH
X-WR-CALNAME:Stutensee-Kinderkalender
X-ORIGINAL-URL:https://stutenseekinderkalender.de
X-WR-CALDESC:Veranstaltungen für Stutensee-Kinderkalender
REFRESH-INTERVAL;VALUE=DURATION:PT1H
X-Robots-Tag:noindex
X-PUBLISHED-TTL:PT1H
BEGIN:VTIMEZONE
TZID:Europe/Berlin
BEGIN:DAYLIGHT
TZOFFSETFROM:+0100
TZOFFSETTO:+0200
TZNAME:CEST
DTSTART:20240331T010000
END:DAYLIGHT
BEGIN:STANDARD
TZOFFSETFROM:+0200
TZOFFSETTO:+0100
TZNAME:CET
DTSTART:20241027T010000
END:STANDARD
BEGIN:DAYLIGHT
TZOFFSETFROM:+0100
TZOFFSETTO:+0200
TZNAME:CEST
DTSTART:20250330T010000
END:DAYLIGHT
BEGIN:STANDARD
TZOFFSETFROM:+0200
TZOFFSETTO:+0100
TZNAME:CET
DTSTART:20251026T010000
END:STANDARD
BEGIN:DAYLIGHT
TZOFFSETFROM:+0100
TZOFFSETTO:+0200
TZNAME:CEST
DTSTART:20260329T010000
END:DAYLIGHT
BEGIN:STANDARD
TZOFFSETFROM:+0200
TZOFFSETTO:+0100
TZNAME:CET
DTSTART:20261025T010000
END:STANDARD
BEGIN:DAYLIGHT
TZOFFSETFROM:+0100
TZOFFSETTO:+0200
TZNAME:CEST
DTSTART:20270328T010000
END:DAYLIGHT
BEGIN:STANDARD
TZOFFSETFROM:+0200
TZOFFSETTO:+0100
TZNAME:CET
DTSTART:20271031T010000
END:STANDARD
END:VTIMEZONE
BEGIN:VEVENT
DTSTART;TZID=Europe/Berlin:20251129T150000
DTEND;TZID=Europe/Berlin:20251129T200000
DTSTAMP:20260422T122241
CREATED:20251103T231528Z
LAST-MODIFIED:20251103T231528Z
UID:10007391-1764428400-1764446400@stutenseekinderkalender.de
SUMMARY:3. Adventszauber des DRK Spöck
DESCRIPTION:Das Deutsche Rote Kreuz Spöck lädt herzlich zum 3. Adventszauber ein! Genießt mit Familie und Freunden die vorweihnachtliche Atmosphäre mit Glühwein\, Kinderpunsch\, Bratwürsten\, Gulaschsuppe und frisch gebackenen Waffeln. \nEin besonderes Highlight ist die Fahrzeugtaufe des neuen MTW mit Fassanstich um 16 Uhr.Für die Kleinen bietet die Jugendgruppe kreative Beschäftigungen\, während im Innenbereich ein gemütlicher Adventsbasar mit Handgemachtem wartet. \nAb 16:30 Uhr sorgt der Musikverein Harmonie Spöck für festliche musikalische Begleitung. \nKommt vorbei\, genießt den Adventszauber und startet gemeinsam mit dem DRK Spöck in die schönste Zeit des Jahres!
URL:https://stutenseekinderkalender.de/event/3-adventszauber-des-drk-spoeck/
LOCATION:DRK Ortsverein Spöck e.V.\, Friedrichstraße 10\, Stutensee-Spöck\, 76297\, Germany
CATEGORIES:Adventsbasar,Event,Fest
ATTACH;FMTTYPE=image/png:https://stutenseekinderkalender.de/wp-content/uploads/2025/11/Adventzauber-DRK-Spoeck-e1762211721492.png
END:VEVENT
BEGIN:VEVENT
DTSTART;TZID=Europe/Berlin:20251206T150000
DTEND;TZID=Europe/Berlin:20251206T210000
DTSTAMP:20260422T122241
CREATED:20251201T152301Z
LAST-MODIFIED:20251201T153701Z
UID:10008394-1765033200-1765054800@stutenseekinderkalender.de
SUMMARY:Friedrichstaler Weihnachtsmarkt 2025
DESCRIPTION:Der Friedrichstaler Weihnachtsmarkt lädt an zwei Tagen zu einem stimmungsvollen Programm für Familien ein – mit Musik\, Tanz\, Kinderaktionen und weihnachtlicher Atmosphäre. \nSamstag\, 6. Dezember15:00 Uhr – Eröffnung mit dem Schulchor der Friedrich-Magnus-Grundschule16:00 Uhr – 25 Jahre Agenda-Gruppe Natur & Umwelt (Oskar-Hornung-Haus)16:30 Uhr – Flötengruppe der Musikschule Hardt17:30 Uhr – Bläsergruppe Hardt-Harmonie18:30 Uhr – „Spirit of Phoenix“ – Irish Dance\, TV Friedrichstal19:00 Uhr – DJ Roland (bis 21 Uhr)21:00 Uhr – Ende des Marktes \nSonntag\, 7. Dezember10:00 Uhr – Ökumenischer Gottesdienst (evangelische Kirche)12:00 Uhr – Beginn des Marktes11:00-16:00 Uhr – Heimat- und Hugenottenmuseum geöffnet14:00 Uhr – Aerobic-Kids des TV Friedrichstal14:30 Uhr – Der Nikolaus kommt18:30 Uhr – Adventskonzert mit Posaunenchor (evangelische Kirche)19:00 Uhr – Ende des Marktes
URL:https://stutenseekinderkalender.de/event/friedrichstaler-weihnachtsmarkt-2025/2025-12-06/
LOCATION:Friedrichstal\, Stutensee-Friedrichstal\, 76297\, Germany
CATEGORIES:Event,Weihnachtsmarkt 
ATTACH;FMTTYPE=image/jpeg:https://stutenseekinderkalender.de/wp-content/uploads/2025/12/Friedrichstaler-Weihnachtsmarkt-2025-e1764603366400.jpg
END:VEVENT
BEGIN:VEVENT
DTSTART;TZID=Europe/Berlin:20251207T100000
DTEND;TZID=Europe/Berlin:20251207T190000
DTSTAMP:20260422T122241
CREATED:20251201T152301Z
LAST-MODIFIED:20251201T153701Z
UID:10008395-1765101600-1765134000@stutenseekinderkalender.de
SUMMARY:Friedrichstaler Weihnachtsmarkt 2025
DESCRIPTION:Der Friedrichstaler Weihnachtsmarkt lädt an zwei Tagen zu einem stimmungsvollen Programm für Familien ein – mit Musik\, Tanz\, Kinderaktionen und weihnachtlicher Atmosphäre. \nSamstag\, 6. Dezember15:00 Uhr – Eröffnung mit dem Schulchor der Friedrich-Magnus-Grundschule16:00 Uhr – 25 Jahre Agenda-Gruppe Natur & Umwelt (Oskar-Hornung-Haus)16:30 Uhr – Flötengruppe der Musikschule Hardt17:30 Uhr – Bläsergruppe Hardt-Harmonie18:30 Uhr – „Spirit of Phoenix“ – Irish Dance\, TV Friedrichstal19:00 Uhr – DJ Roland (bis 21 Uhr)21:00 Uhr – Ende des Marktes \nSonntag\, 7. Dezember10:00 Uhr – Ökumenischer Gottesdienst (evangelische Kirche)12:00 Uhr – Beginn des Marktes11:00-16:00 Uhr – Heimat- und Hugenottenmuseum geöffnet14:00 Uhr – Aerobic-Kids des TV Friedrichstal14:30 Uhr – Der Nikolaus kommt18:30 Uhr – Adventskonzert mit Posaunenchor (evangelische Kirche)19:00 Uhr – Ende des Marktes
URL:https://stutenseekinderkalender.de/event/friedrichstaler-weihnachtsmarkt-2025/2025-12-07/
LOCATION:Friedrichstal\, Stutensee-Friedrichstal\, 76297\, Germany
CATEGORIES:Event,Weihnachtsmarkt 
ATTACH;FMTTYPE=image/jpeg:https://stutenseekinderkalender.de/wp-content/uploads/2025/12/Friedrichstaler-Weihnachtsmarkt-2025-e1764603366400.jpg
END:VEVENT
BEGIN:VEVENT
DTSTART;TZID=Europe/Berlin:20251213T150000
DTEND;TZID=Europe/Berlin:20251213T210000
DTSTAMP:20260422T122241
CREATED:20251130T214825Z
LAST-MODIFIED:20251130T215155Z
UID:10008391-1765638000-1765659600@stutenseekinderkalender.de
SUMMARY:Blankenlocher Weihnachtsmarkt 2025
DESCRIPTION:Der Blankenlocher Weihnachtsmarkt lädt zu einem stimmungsvollen Adventswochenende ein – mit Musik\, warmem Punsch\, vielen Leckereien und abwechslungsreichen Programmpunkten für Kinder und Familien. \nHighlights laut Programm:Samstag\, 13.12. \n\n14:30 Uhr: Enthüllung der neuen Namenstafel (Altes Rathaus)\n15:30 Uhr: Offizielle Eröffnung & Kinderchor der Pestalozzi-Grundschule\nIm Anschluss: Besuch des Weihnachtsmanns\nErzähltheater für Kinder\, Bücherflohmarkt & Weihnachtskonzert des TMG\n\nSonntag\, 14.12. \n\nBücherflohmarkt in der Stadtbibliothek\nErzähltheater für Kinder\n16:30 Uhr: Weihnachtliches Singen in der Michaeliskirche\n18:00 Uhr: Adventschoralblasen\n\nAn beiden Tagen geöffnet:– Kerns-Max-Haus (inkl. Museumscafé & Ausstellung)– Gebäude Hauptstraße 86 mit Kunstausstellung \nDer Weihnachtsmarkt bietet zudem viele Stände mit Essen\, Getränken\, Selbstgemachtem und lokalen Vereinen. \nFlyer Blankenlocher Weihnachtsmarkt 2025
URL:https://stutenseekinderkalender.de/event/blankenlocher-weihnachtsmarkt-2025/2025-12-13/
LOCATION:Blankenloch\, Stutensee-Blankenloch\, 76297\, Germany
CATEGORIES:Weihnachtsmarkt 
ATTACH;FMTTYPE=image/png:https://stutenseekinderkalender.de/wp-content/uploads/2025/11/Weihnachtsmarkt.png
END:VEVENT
BEGIN:VEVENT
DTSTART;TZID=Europe/Berlin:20251214T140000
DTEND;TZID=Europe/Berlin:20251214T200000
DTSTAMP:20260422T122241
CREATED:20251130T214825Z
LAST-MODIFIED:20251130T215155Z
UID:10008392-1765720800-1765742400@stutenseekinderkalender.de
SUMMARY:Blankenlocher Weihnachtsmarkt 2025
DESCRIPTION:Der Blankenlocher Weihnachtsmarkt lädt zu einem stimmungsvollen Adventswochenende ein – mit Musik\, warmem Punsch\, vielen Leckereien und abwechslungsreichen Programmpunkten für Kinder und Familien. \nHighlights laut Programm:Samstag\, 13.12. \n\n14:30 Uhr: Enthüllung der neuen Namenstafel (Altes Rathaus)\n15:30 Uhr: Offizielle Eröffnung & Kinderchor der Pestalozzi-Grundschule\nIm Anschluss: Besuch des Weihnachtsmanns\nErzähltheater für Kinder\, Bücherflohmarkt & Weihnachtskonzert des TMG\n\nSonntag\, 14.12. \n\nBücherflohmarkt in der Stadtbibliothek\nErzähltheater für Kinder\n16:30 Uhr: Weihnachtliches Singen in der Michaeliskirche\n18:00 Uhr: Adventschoralblasen\n\nAn beiden Tagen geöffnet:– Kerns-Max-Haus (inkl. Museumscafé & Ausstellung)– Gebäude Hauptstraße 86 mit Kunstausstellung \nDer Weihnachtsmarkt bietet zudem viele Stände mit Essen\, Getränken\, Selbstgemachtem und lokalen Vereinen. \nFlyer Blankenlocher Weihnachtsmarkt 2025
URL:https://stutenseekinderkalender.de/event/blankenlocher-weihnachtsmarkt-2025/2025-12-14/
LOCATION:Blankenloch\, Stutensee-Blankenloch\, 76297\, Germany
CATEGORIES:Weihnachtsmarkt 
ATTACH;FMTTYPE=image/png:https://stutenseekinderkalender.de/wp-content/uploads/2025/11/Weihnachtsmarkt.png
END:VEVENT
BEGIN:VEVENT
DTSTART;TZID=Europe/Berlin:20260117T111500
DTEND;TZID=Europe/Berlin:20260117T121500
DTSTAMP:20260422T122241
CREATED:20251223T144735Z
LAST-MODIFIED:20260202T145207Z
UID:10008731-1768648500-1768652100@stutenseekinderkalender.de
SUMMARY:Tanzen für die Kleinsten (4-6 Jahre)
DESCRIPTION:Ein regelmäßiges Tanzangebot für Kinder im Alter von 4 bis 6 Jahren. In spielerischer Form werden Bewegung\, Musik und Rhythmus miteinander verbunden. Die Kinder sammeln erste Tanzerfahrungen und beschäftigen sich mit Ausdruck und Koordination. Das Angebot wird von einer ausgebildeten Diplom-Tanzpädagogin geleitet. \nWeitere Informationen und Anmeldung unter: 0176 38172576 \n \n 
URL:https://stutenseekinderkalender.de/event/ryabinushka-tanzen-fuer-die-kleinsten-4-6-jahre/2026-01-17/
LOCATION:Tanzgruppe Rowan Berry\, Stutensee-Spöck\, 76297\, Germany
CATEGORIES:Freizeitangebot,Kurs,Tanz
ATTACH;FMTTYPE=image/png:https://stutenseekinderkalender.de/wp-content/uploads/2025/12/Ryabinushka-Tanz-1-e1766501249138.png
END:VEVENT
BEGIN:VEVENT
DTSTART;TZID=Europe/Berlin:20260124T111500
DTEND;TZID=Europe/Berlin:20260124T121500
DTSTAMP:20260422T122241
CREATED:20251223T144735Z
LAST-MODIFIED:20260202T145207Z
UID:10008732-1769253300-1769256900@stutenseekinderkalender.de
SUMMARY:Tanzen für die Kleinsten (4-6 Jahre)
DESCRIPTION:Ein regelmäßiges Tanzangebot für Kinder im Alter von 4 bis 6 Jahren. In spielerischer Form werden Bewegung\, Musik und Rhythmus miteinander verbunden. Die Kinder sammeln erste Tanzerfahrungen und beschäftigen sich mit Ausdruck und Koordination. Das Angebot wird von einer ausgebildeten Diplom-Tanzpädagogin geleitet. \nWeitere Informationen und Anmeldung unter: 0176 38172576 \n \n 
URL:https://stutenseekinderkalender.de/event/ryabinushka-tanzen-fuer-die-kleinsten-4-6-jahre/2026-01-24/
LOCATION:Tanzgruppe Rowan Berry\, Stutensee-Spöck\, 76297\, Germany
CATEGORIES:Freizeitangebot,Kurs,Tanz
ATTACH;FMTTYPE=image/png:https://stutenseekinderkalender.de/wp-content/uploads/2025/12/Ryabinushka-Tanz-1-e1766501249138.png
END:VEVENT
BEGIN:VEVENT
DTSTART;TZID=Europe/Berlin:20260124T141400
DTEND;TZID=Europe/Berlin:20260124T171700
DTSTAMP:20260422T122241
CREATED:20260109T211850Z
LAST-MODIFIED:20260109T211903Z
UID:10008667-1769264040-1769275020@stutenseekinderkalender.de
SUMMARY:Kinderfasching in Spöck - 11. Jubiläum
DESCRIPTION:Am Samstag\, 24. Januar 2026\, findet in der Spechaahalle Spöck der Kinderfasching zum 11. Jubiläum statt.Gefiert wird von 14:14 bis 17:17 Uhr\, der Einlass ist ab 13:30 Uhr möglich. \nFür musikalische Stimmung sorgt die Guggenmusik „Scheiererborzler“.Der Eintritt beträgt 4 €.
URL:https://stutenseekinderkalender.de/event/kinderfasching-in-spoeck-11-jubilaeum/
LOCATION:Spechaahalle Spöck\, Kirchstraße 21\, Stutensee-Spöck\, 76297\, Germany
CATEGORIES:Event,Fasching,Fest
ATTACH;FMTTYPE=image/jpeg:https://stutenseekinderkalender.de/wp-content/uploads/2026/01/Kinderfasching-Spoeck_2026-1-e1767993508649.jpg
END:VEVENT
BEGIN:VEVENT
DTSTART;TZID=Europe/Berlin:20260131T111500
DTEND;TZID=Europe/Berlin:20260131T121500
DTSTAMP:20260422T122241
CREATED:20251223T144735Z
LAST-MODIFIED:20260202T145207Z
UID:10008733-1769858100-1769861700@stutenseekinderkalender.de
SUMMARY:Tanzen für die Kleinsten (4-6 Jahre)
DESCRIPTION:Ein regelmäßiges Tanzangebot für Kinder im Alter von 4 bis 6 Jahren. In spielerischer Form werden Bewegung\, Musik und Rhythmus miteinander verbunden. Die Kinder sammeln erste Tanzerfahrungen und beschäftigen sich mit Ausdruck und Koordination. Das Angebot wird von einer ausgebildeten Diplom-Tanzpädagogin geleitet. \nWeitere Informationen und Anmeldung unter: 0176 38172576 \n \n 
URL:https://stutenseekinderkalender.de/event/ryabinushka-tanzen-fuer-die-kleinsten-4-6-jahre/2026-01-31/
LOCATION:Tanzgruppe Rowan Berry\, Stutensee-Spöck\, 76297\, Germany
CATEGORIES:Freizeitangebot,Kurs,Tanz
ATTACH;FMTTYPE=image/png:https://stutenseekinderkalender.de/wp-content/uploads/2025/12/Ryabinushka-Tanz-1-e1766501249138.png
END:VEVENT
BEGIN:VEVENT
DTSTART;TZID=Europe/Berlin:20260207T111500
DTEND;TZID=Europe/Berlin:20260207T121500
DTSTAMP:20260422T122241
CREATED:20251223T144735Z
LAST-MODIFIED:20260202T145207Z
UID:10008734-1770462900-1770466500@stutenseekinderkalender.de
SUMMARY:Tanzen für die Kleinsten (4-6 Jahre)
DESCRIPTION:Ein regelmäßiges Tanzangebot für Kinder im Alter von 4 bis 6 Jahren. In spielerischer Form werden Bewegung\, Musik und Rhythmus miteinander verbunden. Die Kinder sammeln erste Tanzerfahrungen und beschäftigen sich mit Ausdruck und Koordination. Das Angebot wird von einer ausgebildeten Diplom-Tanzpädagogin geleitet. \nWeitere Informationen und Anmeldung unter: 0176 38172576 \n \n 
URL:https://stutenseekinderkalender.de/event/ryabinushka-tanzen-fuer-die-kleinsten-4-6-jahre/2026-02-07/
LOCATION:Tanzgruppe Rowan Berry\, Stutensee-Spöck\, 76297\, Germany
CATEGORIES:Freizeitangebot,Kurs,Tanz
ATTACH;FMTTYPE=image/png:https://stutenseekinderkalender.de/wp-content/uploads/2025/12/Ryabinushka-Tanz-1-e1766501249138.png
END:VEVENT
BEGIN:VEVENT
DTSTART;TZID=Europe/Berlin:20260214T111500
DTEND;TZID=Europe/Berlin:20260214T121500
DTSTAMP:20260422T122241
CREATED:20251223T144735Z
LAST-MODIFIED:20260202T145207Z
UID:10008735-1771067700-1771071300@stutenseekinderkalender.de
SUMMARY:Tanzen für die Kleinsten (4-6 Jahre)
DESCRIPTION:Ein regelmäßiges Tanzangebot für Kinder im Alter von 4 bis 6 Jahren. In spielerischer Form werden Bewegung\, Musik und Rhythmus miteinander verbunden. Die Kinder sammeln erste Tanzerfahrungen und beschäftigen sich mit Ausdruck und Koordination. Das Angebot wird von einer ausgebildeten Diplom-Tanzpädagogin geleitet. \nWeitere Informationen und Anmeldung unter: 0176 38172576 \n \n 
URL:https://stutenseekinderkalender.de/event/ryabinushka-tanzen-fuer-die-kleinsten-4-6-jahre/2026-02-14/
LOCATION:Tanzgruppe Rowan Berry\, Stutensee-Spöck\, 76297\, Germany
CATEGORIES:Freizeitangebot,Kurs,Tanz
ATTACH;FMTTYPE=image/png:https://stutenseekinderkalender.de/wp-content/uploads/2025/12/Ryabinushka-Tanz-1-e1766501249138.png
END:VEVENT
BEGIN:VEVENT
DTSTART;TZID=Europe/Berlin:20260221T111500
DTEND;TZID=Europe/Berlin:20260221T121500
DTSTAMP:20260422T122241
CREATED:20251223T144735Z
LAST-MODIFIED:20260202T145207Z
UID:10008736-1771672500-1771676100@stutenseekinderkalender.de
SUMMARY:Tanzen für die Kleinsten (4-6 Jahre)
DESCRIPTION:Ein regelmäßiges Tanzangebot für Kinder im Alter von 4 bis 6 Jahren. In spielerischer Form werden Bewegung\, Musik und Rhythmus miteinander verbunden. Die Kinder sammeln erste Tanzerfahrungen und beschäftigen sich mit Ausdruck und Koordination. Das Angebot wird von einer ausgebildeten Diplom-Tanzpädagogin geleitet. \nWeitere Informationen und Anmeldung unter: 0176 38172576 \n \n 
URL:https://stutenseekinderkalender.de/event/ryabinushka-tanzen-fuer-die-kleinsten-4-6-jahre/2026-02-21/
LOCATION:Tanzgruppe Rowan Berry\, Stutensee-Spöck\, 76297\, Germany
CATEGORIES:Freizeitangebot,Kurs,Tanz
ATTACH;FMTTYPE=image/png:https://stutenseekinderkalender.de/wp-content/uploads/2025/12/Ryabinushka-Tanz-1-e1766501249138.png
END:VEVENT
BEGIN:VEVENT
DTSTART;TZID=Europe/Berlin:20260228T111500
DTEND;TZID=Europe/Berlin:20260228T121500
DTSTAMP:20260422T122241
CREATED:20251223T144735Z
LAST-MODIFIED:20260202T145207Z
UID:10008737-1772277300-1772280900@stutenseekinderkalender.de
SUMMARY:Tanzen für die Kleinsten (4-6 Jahre)
DESCRIPTION:Ein regelmäßiges Tanzangebot für Kinder im Alter von 4 bis 6 Jahren. In spielerischer Form werden Bewegung\, Musik und Rhythmus miteinander verbunden. Die Kinder sammeln erste Tanzerfahrungen und beschäftigen sich mit Ausdruck und Koordination. Das Angebot wird von einer ausgebildeten Diplom-Tanzpädagogin geleitet. \nWeitere Informationen und Anmeldung unter: 0176 38172576 \n \n 
URL:https://stutenseekinderkalender.de/event/ryabinushka-tanzen-fuer-die-kleinsten-4-6-jahre/2026-02-28/
LOCATION:Tanzgruppe Rowan Berry\, Stutensee-Spöck\, 76297\, Germany
CATEGORIES:Freizeitangebot,Kurs,Tanz
ATTACH;FMTTYPE=image/png:https://stutenseekinderkalender.de/wp-content/uploads/2025/12/Ryabinushka-Tanz-1-e1766501249138.png
END:VEVENT
BEGIN:VEVENT
DTSTART;TZID=Europe/Berlin:20260307T111500
DTEND;TZID=Europe/Berlin:20260307T121500
DTSTAMP:20260422T122241
CREATED:20251223T144735Z
LAST-MODIFIED:20260202T145207Z
UID:10008738-1772882100-1772885700@stutenseekinderkalender.de
SUMMARY:Tanzen für die Kleinsten (4-6 Jahre)
DESCRIPTION:Ein regelmäßiges Tanzangebot für Kinder im Alter von 4 bis 6 Jahren. In spielerischer Form werden Bewegung\, Musik und Rhythmus miteinander verbunden. Die Kinder sammeln erste Tanzerfahrungen und beschäftigen sich mit Ausdruck und Koordination. Das Angebot wird von einer ausgebildeten Diplom-Tanzpädagogin geleitet. \nWeitere Informationen und Anmeldung unter: 0176 38172576 \n \n 
URL:https://stutenseekinderkalender.de/event/ryabinushka-tanzen-fuer-die-kleinsten-4-6-jahre/2026-03-07/
LOCATION:Tanzgruppe Rowan Berry\, Stutensee-Spöck\, 76297\, Germany
CATEGORIES:Freizeitangebot,Kurs,Tanz
ATTACH;FMTTYPE=image/png:https://stutenseekinderkalender.de/wp-content/uploads/2025/12/Ryabinushka-Tanz-1-e1766501249138.png
END:VEVENT
BEGIN:VEVENT
DTSTART;TZID=Europe/Berlin:20260314T111500
DTEND;TZID=Europe/Berlin:20260314T121500
DTSTAMP:20260422T122241
CREATED:20251223T144735Z
LAST-MODIFIED:20260202T145207Z
UID:10008739-1773486900-1773490500@stutenseekinderkalender.de
SUMMARY:Tanzen für die Kleinsten (4-6 Jahre)
DESCRIPTION:Ein regelmäßiges Tanzangebot für Kinder im Alter von 4 bis 6 Jahren. In spielerischer Form werden Bewegung\, Musik und Rhythmus miteinander verbunden. Die Kinder sammeln erste Tanzerfahrungen und beschäftigen sich mit Ausdruck und Koordination. Das Angebot wird von einer ausgebildeten Diplom-Tanzpädagogin geleitet. \nWeitere Informationen und Anmeldung unter: 0176 38172576 \n \n 
URL:https://stutenseekinderkalender.de/event/ryabinushka-tanzen-fuer-die-kleinsten-4-6-jahre/2026-03-14/
LOCATION:Tanzgruppe Rowan Berry\, Stutensee-Spöck\, 76297\, Germany
CATEGORIES:Freizeitangebot,Kurs,Tanz
ATTACH;FMTTYPE=image/png:https://stutenseekinderkalender.de/wp-content/uploads/2025/12/Ryabinushka-Tanz-1-e1766501249138.png
END:VEVENT
BEGIN:VEVENT
DTSTART;TZID=Europe/Berlin:20260321T111500
DTEND;TZID=Europe/Berlin:20260321T121500
DTSTAMP:20260422T122241
CREATED:20251223T144735Z
LAST-MODIFIED:20260202T145207Z
UID:10008740-1774091700-1774095300@stutenseekinderkalender.de
SUMMARY:Tanzen für die Kleinsten (4-6 Jahre)
DESCRIPTION:Ein regelmäßiges Tanzangebot für Kinder im Alter von 4 bis 6 Jahren. In spielerischer Form werden Bewegung\, Musik und Rhythmus miteinander verbunden. Die Kinder sammeln erste Tanzerfahrungen und beschäftigen sich mit Ausdruck und Koordination. Das Angebot wird von einer ausgebildeten Diplom-Tanzpädagogin geleitet. \nWeitere Informationen und Anmeldung unter: 0176 38172576 \n \n 
URL:https://stutenseekinderkalender.de/event/ryabinushka-tanzen-fuer-die-kleinsten-4-6-jahre/2026-03-21/
LOCATION:Tanzgruppe Rowan Berry\, Stutensee-Spöck\, 76297\, Germany
CATEGORIES:Freizeitangebot,Kurs,Tanz
ATTACH;FMTTYPE=image/png:https://stutenseekinderkalender.de/wp-content/uploads/2025/12/Ryabinushka-Tanz-1-e1766501249138.png
END:VEVENT
BEGIN:VEVENT
DTSTART;TZID=Europe/Berlin:20260328T111500
DTEND;TZID=Europe/Berlin:20260328T121500
DTSTAMP:20260422T122241
CREATED:20251223T144735Z
LAST-MODIFIED:20260202T145207Z
UID:10008741-1774696500-1774700100@stutenseekinderkalender.de
SUMMARY:Tanzen für die Kleinsten (4-6 Jahre)
DESCRIPTION:Ein regelmäßiges Tanzangebot für Kinder im Alter von 4 bis 6 Jahren. In spielerischer Form werden Bewegung\, Musik und Rhythmus miteinander verbunden. Die Kinder sammeln erste Tanzerfahrungen und beschäftigen sich mit Ausdruck und Koordination. Das Angebot wird von einer ausgebildeten Diplom-Tanzpädagogin geleitet. \nWeitere Informationen und Anmeldung unter: 0176 38172576 \n \n 
URL:https://stutenseekinderkalender.de/event/ryabinushka-tanzen-fuer-die-kleinsten-4-6-jahre/2026-03-28/
LOCATION:Tanzgruppe Rowan Berry\, Stutensee-Spöck\, 76297\, Germany
CATEGORIES:Freizeitangebot,Kurs,Tanz
ATTACH;FMTTYPE=image/png:https://stutenseekinderkalender.de/wp-content/uploads/2025/12/Ryabinushka-Tanz-1-e1766501249138.png
END:VEVENT
BEGIN:VEVENT
DTSTART;TZID=Europe/Berlin:20260404T111500
DTEND;TZID=Europe/Berlin:20260404T121500
DTSTAMP:20260422T122241
CREATED:20251223T144735Z
LAST-MODIFIED:20260202T145207Z
UID:10008742-1775301300-1775304900@stutenseekinderkalender.de
SUMMARY:Tanzen für die Kleinsten (4-6 Jahre)
DESCRIPTION:Ein regelmäßiges Tanzangebot für Kinder im Alter von 4 bis 6 Jahren. In spielerischer Form werden Bewegung\, Musik und Rhythmus miteinander verbunden. Die Kinder sammeln erste Tanzerfahrungen und beschäftigen sich mit Ausdruck und Koordination. Das Angebot wird von einer ausgebildeten Diplom-Tanzpädagogin geleitet. \nWeitere Informationen und Anmeldung unter: 0176 38172576 \n \n 
URL:https://stutenseekinderkalender.de/event/ryabinushka-tanzen-fuer-die-kleinsten-4-6-jahre/2026-04-04/
LOCATION:Tanzgruppe Rowan Berry\, Stutensee-Spöck\, 76297\, Germany
CATEGORIES:Freizeitangebot,Kurs,Tanz
ATTACH;FMTTYPE=image/png:https://stutenseekinderkalender.de/wp-content/uploads/2025/12/Ryabinushka-Tanz-1-e1766501249138.png
END:VEVENT
BEGIN:VEVENT
DTSTART;TZID=Europe/Berlin:20260411T111500
DTEND;TZID=Europe/Berlin:20260411T121500
DTSTAMP:20260422T122241
CREATED:20251223T144735Z
LAST-MODIFIED:20260202T145207Z
UID:10008743-1775906100-1775909700@stutenseekinderkalender.de
SUMMARY:Tanzen für die Kleinsten (4-6 Jahre)
DESCRIPTION:Ein regelmäßiges Tanzangebot für Kinder im Alter von 4 bis 6 Jahren. In spielerischer Form werden Bewegung\, Musik und Rhythmus miteinander verbunden. Die Kinder sammeln erste Tanzerfahrungen und beschäftigen sich mit Ausdruck und Koordination. Das Angebot wird von einer ausgebildeten Diplom-Tanzpädagogin geleitet. \nWeitere Informationen und Anmeldung unter: 0176 38172576 \n \n 
URL:https://stutenseekinderkalender.de/event/ryabinushka-tanzen-fuer-die-kleinsten-4-6-jahre/2026-04-11/
LOCATION:Tanzgruppe Rowan Berry\, Stutensee-Spöck\, 76297\, Germany
CATEGORIES:Freizeitangebot,Kurs,Tanz
ATTACH;FMTTYPE=image/png:https://stutenseekinderkalender.de/wp-content/uploads/2025/12/Ryabinushka-Tanz-1-e1766501249138.png
END:VEVENT
BEGIN:VEVENT
DTSTART;TZID=Europe/Berlin:20260418T111500
DTEND;TZID=Europe/Berlin:20260418T121500
DTSTAMP:20260422T122241
CREATED:20251223T144735Z
LAST-MODIFIED:20260202T145207Z
UID:10008744-1776510900-1776514500@stutenseekinderkalender.de
SUMMARY:Tanzen für die Kleinsten (4-6 Jahre)
DESCRIPTION:Ein regelmäßiges Tanzangebot für Kinder im Alter von 4 bis 6 Jahren. In spielerischer Form werden Bewegung\, Musik und Rhythmus miteinander verbunden. Die Kinder sammeln erste Tanzerfahrungen und beschäftigen sich mit Ausdruck und Koordination. Das Angebot wird von einer ausgebildeten Diplom-Tanzpädagogin geleitet. \nWeitere Informationen und Anmeldung unter: 0176 38172576 \n \n 
URL:https://stutenseekinderkalender.de/event/ryabinushka-tanzen-fuer-die-kleinsten-4-6-jahre/2026-04-18/
LOCATION:Tanzgruppe Rowan Berry\, Stutensee-Spöck\, 76297\, Germany
CATEGORIES:Freizeitangebot,Kurs,Tanz
ATTACH;FMTTYPE=image/png:https://stutenseekinderkalender.de/wp-content/uploads/2025/12/Ryabinushka-Tanz-1-e1766501249138.png
END:VEVENT
END:VCALENDAR