BEGIN:VCALENDAR
VERSION:2.0
PRODID:-//Stutensee-Kinderkalender - ECPv6.15.20//NONSGML v1.0//EN
CALSCALE:GREGORIAN
METHOD:PUBLISH
X-ORIGINAL-URL:https://stutenseekinderkalender.de
X-WR-CALDESC:Veranstaltungen für Stutensee-Kinderkalender
REFRESH-INTERVAL;VALUE=DURATION:PT1H
X-Robots-Tag:noindex
X-PUBLISHED-TTL:PT1H
BEGIN:VTIMEZONE
TZID:Europe/Berlin
BEGIN:DAYLIGHT
TZOFFSETFROM:+0100
TZOFFSETTO:+0200
TZNAME:CEST
DTSTART:20250330T010000
END:DAYLIGHT
BEGIN:STANDARD
TZOFFSETFROM:+0200
TZOFFSETTO:+0100
TZNAME:CET
DTSTART:20251026T010000
END:STANDARD
BEGIN:DAYLIGHT
TZOFFSETFROM:+0100
TZOFFSETTO:+0200
TZNAME:CEST
DTSTART:20260329T010000
END:DAYLIGHT
BEGIN:STANDARD
TZOFFSETFROM:+0200
TZOFFSETTO:+0100
TZNAME:CET
DTSTART:20261025T010000
END:STANDARD
BEGIN:DAYLIGHT
TZOFFSETFROM:+0100
TZOFFSETTO:+0200
TZNAME:CEST
DTSTART:20270328T010000
END:DAYLIGHT
BEGIN:STANDARD
TZOFFSETFROM:+0200
TZOFFSETTO:+0100
TZNAME:CET
DTSTART:20271031T010000
END:STANDARD
END:VTIMEZONE
BEGIN:VEVENT
DTSTART;TZID=Europe/Berlin:20260410T131500
DTEND;TZID=Europe/Berlin:20260410T150000
DTSTAMP:20260422T121045
CREATED:20251105T225928Z
LAST-MODIFIED:20251105T230019Z
UID:10007420-1775826900-1775833200@stutenseekinderkalender.de
SUMMARY:Modellbahn-AG am Thomas-Mann-Gymnasium Stutensee
DESCRIPTION:In der Modellbahn-AG des TMG bauen Schülerinnen und Schüler eigene Modellbahnanlagen\, gestalten Landschaften und beschäftigen sich mit Technik\, Elektronik und Steuerung. Die AG besteht seit 1996 und wird von Mitgliedern aus verschiedenen Klassenstufen betrieben. \nInteressierte Kinder und Jugendliche aus dem TMG\, der EKRS und anderen Schulen der Region können teilnehmen. \nWeitere Informationen auf der Website der Modellbahn-AG: www.modellbahn-ag.de
URL:https://stutenseekinderkalender.de/event/modellbahn-ag-am-thomas-mann-gymnasium-stutensee/2026-04-10/
LOCATION:Thomas-Mann-Gymnasium Stutensee\, Gymnasiumstr. 20\, Stutensee-Blankenloch\, 76297\, Germany
CATEGORIES:Arbeitsgemeinschaft,Freizeitangebot,Jugendtreff,Kindertreff
ATTACH;FMTTYPE=image/jpeg:https://stutenseekinderkalender.de/wp-content/uploads/2025/11/Modellbahn-AG-Stutensee.jpg
END:VEVENT
END:VCALENDAR