BEGIN:VCALENDAR
VERSION:2.0
PRODID:-//Stutensee-Kinderkalender - ECPv6.15.20//NONSGML v1.0//EN
CALSCALE:GREGORIAN
METHOD:PUBLISH
X-ORIGINAL-URL:https://stutenseekinderkalender.de
X-WR-CALDESC:Veranstaltungen für Stutensee-Kinderkalender
REFRESH-INTERVAL;VALUE=DURATION:PT1H
X-Robots-Tag:noindex
X-PUBLISHED-TTL:PT1H
BEGIN:VTIMEZONE
TZID:Europe/Berlin
BEGIN:DAYLIGHT
TZOFFSETFROM:+0100
TZOFFSETTO:+0200
TZNAME:CEST
DTSTART:20250330T010000
END:DAYLIGHT
BEGIN:STANDARD
TZOFFSETFROM:+0200
TZOFFSETTO:+0100
TZNAME:CET
DTSTART:20251026T010000
END:STANDARD
BEGIN:DAYLIGHT
TZOFFSETFROM:+0100
TZOFFSETTO:+0200
TZNAME:CEST
DTSTART:20260329T010000
END:DAYLIGHT
BEGIN:STANDARD
TZOFFSETFROM:+0200
TZOFFSETTO:+0100
TZNAME:CET
DTSTART:20261025T010000
END:STANDARD
BEGIN:DAYLIGHT
TZOFFSETFROM:+0100
TZOFFSETTO:+0200
TZNAME:CEST
DTSTART:20270328T010000
END:DAYLIGHT
BEGIN:STANDARD
TZOFFSETFROM:+0200
TZOFFSETTO:+0100
TZNAME:CET
DTSTART:20271031T010000
END:STANDARD
END:VTIMEZONE
BEGIN:VEVENT
DTSTART;TZID=Europe/Berlin:20260514T160000
DTEND;TZID=Europe/Berlin:20260514T180000
DTSTAMP:20260423T005656
CREATED:20251026T211125Z
LAST-MODIFIED:20251026T211125Z
UID:10006105-1778774400-1778781600@stutenseekinderkalender.de
SUMMARY:Tee- und Spielstube
DESCRIPTION:Die Tee- und Spielstube lädt zu gemütlichen Nachmittagen ein\, an denen sich Menschen aus verschiedenen Kulturen begegnen\, austauschen und miteinander Zeit verbringen können. Bei Tee\, Kaffee und Gebäck entstehen Gespräche\, Freundschaften und schöne Momente. Auch Kinder können spielen\, basteln oder einfach Spaß haben\, während die Erwachsenen ins Gespräch kommen. \n\nFür Geflüchtete\, Migrantinnen\, Ehrenamtliche und alle interessierten Bürgerinnen\nJeden Donnerstag von 16:00 bis 18:00 Uhr (nicht in den Schulferien und an Feiertagen)\n\nAnmeldung: Doris Maier\, teststube-bl@fluechtlingshilfe-stutensee.de 
URL:https://stutenseekinderkalender.de/event/tee-und-spielstube/2026-05-14/
LOCATION:Altes Rathaus Blankenloch\, Hauptstraße 80\, Stutensee-Blankenloch\, 76298
CATEGORIES:Eltern-Kind-Treff,Elterncafé
ATTACH;FMTTYPE=image/jpeg:https://stutenseekinderkalender.de/wp-content/uploads/2025/10/Teestube-Blankenloch.jpg
ORGANIZER;CN="Fl%C3%BCchtlingshilfe Stutensee e.V.":MAILTO:info@fluechtlingshilfe-stutensee.de
END:VEVENT
BEGIN:VEVENT
DTSTART;TZID=Europe/Berlin:20260514T183000
DTEND;TZID=Europe/Berlin:20260514T193000
DTSTAMP:20260423T005656
CREATED:20251103T225702Z
LAST-MODIFIED:20251103T225702Z
UID:10007157-1778783400-1778787000@stutenseekinderkalender.de
SUMMARY:Jugendrotkreuz - Gruppe "Dinos" (12-17 Jahre)
DESCRIPTION:Im Jugendrotkreuz lernen Kinder und Jugendliche spielerisch und altersgerecht Erste Hilfe\, Sicherheit im Alltag und Gemeinschaftssinn. Die Treffen finden wöchentlich donnerstags statt und bieten spannende Übungen\, Ausflüge und Aktionen. Ein tolles Angebot für junge Menschen\, die helfen möchten oder einfach neugierig sind\, wie man sich einbringen kann. \nInteressierte sind jederzeit willkommen! Einfach vorbeischauen oder Kontakt aufnehmen über die Webseite des Ortsvereins.
URL:https://stutenseekinderkalender.de/event/jugendrotkreuz-gruppe-dinos-12-17-jahre/2026-05-14/
LOCATION:DRK Blankenloch e.V.\, Gymnasiumstraße 14A\, Stutensee-Blankenloch\, 76297\, Germany
CATEGORIES:Freizeitangebot,Jugendtreff
ATTACH;FMTTYPE=image/png:https://stutenseekinderkalender.de/wp-content/uploads/2025/11/Jugendrotkreuz-DRK-Blankenloch-e1762210256965.png
END:VEVENT
BEGIN:VEVENT
DTSTART;TZID=Europe/Berlin:20260515T093000
DTEND;TZID=Europe/Berlin:20260515T110000
DTSTAMP:20260423T005656
CREATED:20251008T211114Z
LAST-MODIFIED:20251008T211538Z
UID:10002552-1778837400-1778842800@stutenseekinderkalender.de
SUMMARY:Eltern-Baby-Treff
DESCRIPTION:In dieser offenen Krabbelgruppe können Eltern und Kinder gemeinsam spielen\, singen und entdecken. Die Treffen bieten Raum für Bewegung\, kreative Spiele und Austausch in entspannter Atmosphäre. Auch spontane Teilnahme ist möglich – ohne Anmeldung und kostenfrei. \n\n\nJeden Freitag 9:30 – 11:00 Uhr\nFür Eltern mit Kindern von 0 bis 3 Jahren.\n\nKontakt:Corinna Konrad corinnakonrad@gmx.de oder 01725618123 (Vertretung: Christine Berger) \nBei schönem Wetter finden gelegentlich Treffen im Freien oder kleine Ausflüge statt. \nHinweis:Die Informationen im Kalender werden teilweise automatisch übernommen und können daher unvollständig oder nicht mehr aktuell sein. Bitte überprüft die Angaben direkt auf der Webseite des Veranstalters oder kontaktiert ihn bei Fragen.
URL:https://stutenseekinderkalender.de/event/eltern-baby-treff/2026-05-15/
LOCATION:Familienzentrum Friedrichstal – Kult Café im Alten Rathaus\, Rheinstraße Ost 14\, Stutensee-Friedrichstal\, 76297
CATEGORIES:Eltern-Baby-Treff,Eltern-Kind-Treff,Elterncafé,Krabbelgruppe
ATTACH;FMTTYPE=image/jpeg:https://stutenseekinderkalender.de/wp-content/uploads/2025/10/krabbelgruppe_kult-cafe_friedrichstal.jpg
ORGANIZER;CN="Familienzentrum Friedrichstal - Kult Caf%C3%A9 im Alten Rathaus":MAILTO:info@familienzentrum-friedrichstal-kult-cafe-stutensee.de
END:VEVENT
END:VCALENDAR