BEGIN:VCALENDAR
VERSION:2.0
PRODID:-//Stutensee-Kinderkalender - ECPv6.15.20//NONSGML v1.0//EN
CALSCALE:GREGORIAN
METHOD:PUBLISH
X-WR-CALNAME:Stutensee-Kinderkalender
X-ORIGINAL-URL:https://stutenseekinderkalender.de
X-WR-CALDESC:Veranstaltungen für Stutensee-Kinderkalender
REFRESH-INTERVAL;VALUE=DURATION:PT1H
X-Robots-Tag:noindex
X-PUBLISHED-TTL:PT1H
BEGIN:VTIMEZONE
TZID:Europe/Berlin
BEGIN:DAYLIGHT
TZOFFSETFROM:+0100
TZOFFSETTO:+0200
TZNAME:CEST
DTSTART:20250330T010000
END:DAYLIGHT
BEGIN:STANDARD
TZOFFSETFROM:+0200
TZOFFSETTO:+0100
TZNAME:CET
DTSTART:20251026T010000
END:STANDARD
BEGIN:DAYLIGHT
TZOFFSETFROM:+0100
TZOFFSETTO:+0200
TZNAME:CEST
DTSTART:20260329T010000
END:DAYLIGHT
BEGIN:STANDARD
TZOFFSETFROM:+0200
TZOFFSETTO:+0100
TZNAME:CET
DTSTART:20261025T010000
END:STANDARD
BEGIN:DAYLIGHT
TZOFFSETFROM:+0100
TZOFFSETTO:+0200
TZNAME:CEST
DTSTART:20270328T010000
END:DAYLIGHT
BEGIN:STANDARD
TZOFFSETFROM:+0200
TZOFFSETTO:+0100
TZNAME:CET
DTSTART:20271031T010000
END:STANDARD
END:VTIMEZONE
BEGIN:VEVENT
DTSTART;TZID=Europe/Berlin:20260226T140000
DTEND;TZID=Europe/Berlin:20260226T173000
DTSTAMP:20260419T150317
CREATED:20260202T144452Z
LAST-MODIFIED:20260202T144453Z
UID:10008730-1772114400-1772127000@stutenseekinderkalender.de
SUMMARY:Eltern-Kind-Workshop zum Thema digitale Spiele
DESCRIPTION:Digitale Spiele sind bei Kindern und Jugendlichen eine beliebte Freizeitbeschäftigung. Es gibt die vielfältigsten Spielvarianten und -geräte: fantasievolle Welten oder einfacher Rätselspaß. Spiele können das Lernen fördern und unterhaltsam sein\, sie können aber auch Risiken bergen.\nIn diesem Workshop dürfen sich Eltern und Kinder zu Spielwelten austauschen. Gemeinsam beschäftigen wir uns mit allem\, was man darüber wissen sollte. \n\nWelche Genres gibt es?\nWie kommt man in den Flow?\nWas stört dabei?\n\nWas ist die USK und welche Gefahren und Potentiale verbergen sich im Spielen?\nDas gemeinsame Erleben kann helfen\, dass Eltern und Kinder mit einem neuen Verständnis füreinander und für\nSpielwelten nach Hause gehen. \nAnmeldung bis 19.2.: \n\nOnline: events.guestoo.de/FamilienbildungStutensee\nOder per Mail an: zukunftshaus(at)stutensee.de
URL:https://stutenseekinderkalender.de/event/eltern-kind-workshop-zum-thema-digitale-spiele/
LOCATION:Begegnungszentrum Regenbogen\, Kirchstraße 22\, Stutensee-Spöck\, 76297
CATEGORIES:Workshop
END:VEVENT
END:VCALENDAR