BEGIN:VCALENDAR
VERSION:2.0
PRODID:-//Stutensee-Kinderkalender - ECPv6.15.20//NONSGML v1.0//EN
CALSCALE:GREGORIAN
METHOD:PUBLISH
X-ORIGINAL-URL:https://stutenseekinderkalender.de
X-WR-CALDESC:Veranstaltungen für Stutensee-Kinderkalender
REFRESH-INTERVAL;VALUE=DURATION:PT1H
X-Robots-Tag:noindex
X-PUBLISHED-TTL:PT1H
BEGIN:VTIMEZONE
TZID:Europe/Berlin
BEGIN:DAYLIGHT
TZOFFSETFROM:+0100
TZOFFSETTO:+0200
TZNAME:CEST
DTSTART:20240331T010000
END:DAYLIGHT
BEGIN:STANDARD
TZOFFSETFROM:+0200
TZOFFSETTO:+0100
TZNAME:CET
DTSTART:20241027T010000
END:STANDARD
BEGIN:DAYLIGHT
TZOFFSETFROM:+0100
TZOFFSETTO:+0200
TZNAME:CEST
DTSTART:20250330T010000
END:DAYLIGHT
BEGIN:STANDARD
TZOFFSETFROM:+0200
TZOFFSETTO:+0100
TZNAME:CET
DTSTART:20251026T010000
END:STANDARD
BEGIN:DAYLIGHT
TZOFFSETFROM:+0100
TZOFFSETTO:+0200
TZNAME:CEST
DTSTART:20260329T010000
END:DAYLIGHT
BEGIN:STANDARD
TZOFFSETFROM:+0200
TZOFFSETTO:+0100
TZNAME:CET
DTSTART:20261025T010000
END:STANDARD
END:VTIMEZONE
BEGIN:VEVENT
DTSTART;TZID=Europe/Berlin:20251206T153000
DTEND;TZID=Europe/Berlin:20251206T183000
DTSTAMP:20260421T110016
CREATED:20251119T101042Z
LAST-MODIFIED:20251119T102155Z
UID:10008103-1765035000-1765045800@stutenseekinderkalender.de
SUMMARY:Family Adventskalender Spöck
DESCRIPTION:Entdeckt den Advent auf besondere Weise mit dem CVJM Family Adventskalender. \nWann? Täglich vom 1. bis 24. Dezember\, zwischen 15:30 und 18:30 Uhr \nWo? Adventskalender-Stationen des CVJM Spöck \nFreut euch auf ein buntes Programm mit Geschichten\, Liedern\, Gedichten und mehr für die ganze Familie. \nLasst euch überraschen und kommt vorbei!
URL:https://stutenseekinderkalender.de/event/family-adventskalender-spoeck/2025-12-06/
LOCATION:Spöck\, Stutensee-Spöck\, 76297\, Germany
CATEGORIES:Event
ATTACH;FMTTYPE=image/jpeg:https://stutenseekinderkalender.de/wp-content/uploads/2025/11/Family-Adventskalender-Spoeck-Info-1-e1763547024122.jpg
ORGANIZER;CN="CVJM Sp%C3%B6ck e.V.":MAILTO:vorstand@cvjm-spoeck.de
END:VEVENT
BEGIN:VEVENT
DTSTART;TZID=Europe/Berlin:20251206T150000
DTEND;TZID=Europe/Berlin:20251206T210000
DTSTAMP:20260421T110016
CREATED:20251201T152301Z
LAST-MODIFIED:20251201T153701Z
UID:10008394-1765033200-1765054800@stutenseekinderkalender.de
SUMMARY:Friedrichstaler Weihnachtsmarkt 2025
DESCRIPTION:Der Friedrichstaler Weihnachtsmarkt lädt an zwei Tagen zu einem stimmungsvollen Programm für Familien ein – mit Musik\, Tanz\, Kinderaktionen und weihnachtlicher Atmosphäre. \nSamstag\, 6. Dezember15:00 Uhr – Eröffnung mit dem Schulchor der Friedrich-Magnus-Grundschule16:00 Uhr – 25 Jahre Agenda-Gruppe Natur & Umwelt (Oskar-Hornung-Haus)16:30 Uhr – Flötengruppe der Musikschule Hardt17:30 Uhr – Bläsergruppe Hardt-Harmonie18:30 Uhr – „Spirit of Phoenix“ – Irish Dance\, TV Friedrichstal19:00 Uhr – DJ Roland (bis 21 Uhr)21:00 Uhr – Ende des Marktes \nSonntag\, 7. Dezember10:00 Uhr – Ökumenischer Gottesdienst (evangelische Kirche)12:00 Uhr – Beginn des Marktes11:00-16:00 Uhr – Heimat- und Hugenottenmuseum geöffnet14:00 Uhr – Aerobic-Kids des TV Friedrichstal14:30 Uhr – Der Nikolaus kommt18:30 Uhr – Adventskonzert mit Posaunenchor (evangelische Kirche)19:00 Uhr – Ende des Marktes
URL:https://stutenseekinderkalender.de/event/friedrichstaler-weihnachtsmarkt-2025/2025-12-06/
LOCATION:Friedrichstal\, Stutensee-Friedrichstal\, 76297\, Germany
CATEGORIES:Event,Weihnachtsmarkt 
ATTACH;FMTTYPE=image/jpeg:https://stutenseekinderkalender.de/wp-content/uploads/2025/12/Friedrichstaler-Weihnachtsmarkt-2025-e1764603366400.jpg
END:VEVENT
BEGIN:VEVENT
DTSTART;TZID=Europe/Berlin:20251206T100000
DTEND;TZID=Europe/Berlin:20251206T160000
DTSTAMP:20260421T110016
CREATED:20251119T215224Z
LAST-MODIFIED:20251119T220018Z
UID:10008124-1765015200-1765036800@stutenseekinderkalender.de
SUMMARY:Adventstag in Staffort
DESCRIPTION:Es ist wieder soweit. Auch dieses Jahr freuen wir uns\, dass wir den Adventstag wieder anbieten können. An diesem Samstag gibt es für Kinder im Alter von 5 – 11 Jahre ein buntes Programm voller Action\, Spiel\, Spaß und natürlich mit einer Geschichte rund um Jesus.
URL:https://stutenseekinderkalender.de/event/adventstag-in-staffort/
LOCATION:Liebenzeller Gemeinschaft Staffort\, Seestraße 3\, Stutensee-Staffort\, 76297\, Germany
CATEGORIES:Event,Freizeitangebot
ATTACH;FMTTYPE=image/webp:https://stutenseekinderkalender.de/wp-content/uploads/2025/11/Adventstag-2025-Staffort_1-1-e1763589136940.webp
END:VEVENT
BEGIN:VEVENT
DTSTART;TZID=Europe/Berlin:20251205T174500
DTEND;TZID=Europe/Berlin:20251205T180000
DTSTAMP:20260421T110016
CREATED:20251119T100356Z
LAST-MODIFIED:20251119T101818Z
UID:10007688-1764956700-1764957600@stutenseekinderkalender.de
SUMMARY:Lebendiger Adventskalender Friedrichstal
DESCRIPTION:Jeden Abend um 17.45 Uhr ist ein adventlich gestaltetes Fenster Treffpunkt\, um in der folgenden Viertelstunde gemeinsam die Vorfreude auf Heiligabend mit Geschichten und Liedern zu feiern.\n\nKommen Sie doch einfach vorbei – egal ob Sie die Gastgeber bereits kennen oder an diesem Abend kennen lernen!
URL:https://stutenseekinderkalender.de/event/lebendiger-adventskalender-friedrichstal/2025-12-05/
LOCATION:Friedrichstal\, Stutensee-Friedrichstal\, 76297\, Germany
ATTACH;FMTTYPE=image/jpeg:https://stutenseekinderkalender.de/wp-content/uploads/2025/11/lebendigeradventskalender2025-Friedrichstal.jpg
ORGANIZER;CN="Ev. Kirchengemeinde Friedrichstal":MAILTO:friedrichstal@kbz.ekiba.de
END:VEVENT
BEGIN:VEVENT
DTSTART;TZID=Europe/Berlin:20251205T153000
DTEND;TZID=Europe/Berlin:20251205T183000
DTSTAMP:20260421T110016
CREATED:20251119T101042Z
LAST-MODIFIED:20251119T102155Z
UID:10008102-1764948600-1764959400@stutenseekinderkalender.de
SUMMARY:Family Adventskalender Spöck
DESCRIPTION:Entdeckt den Advent auf besondere Weise mit dem CVJM Family Adventskalender. \nWann? Täglich vom 1. bis 24. Dezember\, zwischen 15:30 und 18:30 Uhr \nWo? Adventskalender-Stationen des CVJM Spöck \nFreut euch auf ein buntes Programm mit Geschichten\, Liedern\, Gedichten und mehr für die ganze Familie. \nLasst euch überraschen und kommt vorbei!
URL:https://stutenseekinderkalender.de/event/family-adventskalender-spoeck/2025-12-05/
LOCATION:Spöck\, Stutensee-Spöck\, 76297\, Germany
CATEGORIES:Event
ATTACH;FMTTYPE=image/jpeg:https://stutenseekinderkalender.de/wp-content/uploads/2025/11/Family-Adventskalender-Spoeck-Info-1-e1763547024122.jpg
ORGANIZER;CN="CVJM Sp%C3%B6ck e.V.":MAILTO:vorstand@cvjm-spoeck.de
END:VEVENT
BEGIN:VEVENT
DTSTART;TZID=Europe/Berlin:20251204T174500
DTEND;TZID=Europe/Berlin:20251204T180000
DTSTAMP:20260421T110016
CREATED:20251119T100356Z
LAST-MODIFIED:20251119T101818Z
UID:10007687-1764870300-1764871200@stutenseekinderkalender.de
SUMMARY:Lebendiger Adventskalender Friedrichstal
DESCRIPTION:Jeden Abend um 17.45 Uhr ist ein adventlich gestaltetes Fenster Treffpunkt\, um in der folgenden Viertelstunde gemeinsam die Vorfreude auf Heiligabend mit Geschichten und Liedern zu feiern.\n\nKommen Sie doch einfach vorbei – egal ob Sie die Gastgeber bereits kennen oder an diesem Abend kennen lernen!
URL:https://stutenseekinderkalender.de/event/lebendiger-adventskalender-friedrichstal/2025-12-04/
LOCATION:Friedrichstal\, Stutensee-Friedrichstal\, 76297\, Germany
ATTACH;FMTTYPE=image/jpeg:https://stutenseekinderkalender.de/wp-content/uploads/2025/11/lebendigeradventskalender2025-Friedrichstal.jpg
ORGANIZER;CN="Ev. Kirchengemeinde Friedrichstal":MAILTO:friedrichstal@kbz.ekiba.de
END:VEVENT
BEGIN:VEVENT
DTSTART;TZID=Europe/Berlin:20251204T153000
DTEND;TZID=Europe/Berlin:20251204T183000
DTSTAMP:20260421T110016
CREATED:20251119T101042Z
LAST-MODIFIED:20251119T102155Z
UID:10008101-1764862200-1764873000@stutenseekinderkalender.de
SUMMARY:Family Adventskalender Spöck
DESCRIPTION:Entdeckt den Advent auf besondere Weise mit dem CVJM Family Adventskalender. \nWann? Täglich vom 1. bis 24. Dezember\, zwischen 15:30 und 18:30 Uhr \nWo? Adventskalender-Stationen des CVJM Spöck \nFreut euch auf ein buntes Programm mit Geschichten\, Liedern\, Gedichten und mehr für die ganze Familie. \nLasst euch überraschen und kommt vorbei!
URL:https://stutenseekinderkalender.de/event/family-adventskalender-spoeck/2025-12-04/
LOCATION:Spöck\, Stutensee-Spöck\, 76297\, Germany
CATEGORIES:Event
ATTACH;FMTTYPE=image/jpeg:https://stutenseekinderkalender.de/wp-content/uploads/2025/11/Family-Adventskalender-Spoeck-Info-1-e1763547024122.jpg
ORGANIZER;CN="CVJM Sp%C3%B6ck e.V.":MAILTO:vorstand@cvjm-spoeck.de
END:VEVENT
BEGIN:VEVENT
DTSTART;TZID=Europe/Berlin:20251203T174500
DTEND;TZID=Europe/Berlin:20251203T180000
DTSTAMP:20260421T110016
CREATED:20251119T100356Z
LAST-MODIFIED:20251119T101818Z
UID:10007686-1764783900-1764784800@stutenseekinderkalender.de
SUMMARY:Lebendiger Adventskalender Friedrichstal
DESCRIPTION:Jeden Abend um 17.45 Uhr ist ein adventlich gestaltetes Fenster Treffpunkt\, um in der folgenden Viertelstunde gemeinsam die Vorfreude auf Heiligabend mit Geschichten und Liedern zu feiern.\n\nKommen Sie doch einfach vorbei – egal ob Sie die Gastgeber bereits kennen oder an diesem Abend kennen lernen!
URL:https://stutenseekinderkalender.de/event/lebendiger-adventskalender-friedrichstal/2025-12-03/
LOCATION:Friedrichstal\, Stutensee-Friedrichstal\, 76297\, Germany
ATTACH;FMTTYPE=image/jpeg:https://stutenseekinderkalender.de/wp-content/uploads/2025/11/lebendigeradventskalender2025-Friedrichstal.jpg
ORGANIZER;CN="Ev. Kirchengemeinde Friedrichstal":MAILTO:friedrichstal@kbz.ekiba.de
END:VEVENT
BEGIN:VEVENT
DTSTART;TZID=Europe/Berlin:20251203T153000
DTEND;TZID=Europe/Berlin:20251203T183000
DTSTAMP:20260421T110016
CREATED:20251119T101042Z
LAST-MODIFIED:20251119T102155Z
UID:10008100-1764775800-1764786600@stutenseekinderkalender.de
SUMMARY:Family Adventskalender Spöck
DESCRIPTION:Entdeckt den Advent auf besondere Weise mit dem CVJM Family Adventskalender. \nWann? Täglich vom 1. bis 24. Dezember\, zwischen 15:30 und 18:30 Uhr \nWo? Adventskalender-Stationen des CVJM Spöck \nFreut euch auf ein buntes Programm mit Geschichten\, Liedern\, Gedichten und mehr für die ganze Familie. \nLasst euch überraschen und kommt vorbei!
URL:https://stutenseekinderkalender.de/event/family-adventskalender-spoeck/2025-12-03/
LOCATION:Spöck\, Stutensee-Spöck\, 76297\, Germany
CATEGORIES:Event
ATTACH;FMTTYPE=image/jpeg:https://stutenseekinderkalender.de/wp-content/uploads/2025/11/Family-Adventskalender-Spoeck-Info-1-e1763547024122.jpg
ORGANIZER;CN="CVJM Sp%C3%B6ck e.V.":MAILTO:vorstand@cvjm-spoeck.de
END:VEVENT
BEGIN:VEVENT
DTSTART;TZID=Europe/Berlin:20251202T174500
DTEND;TZID=Europe/Berlin:20251202T180000
DTSTAMP:20260421T110016
CREATED:20251119T100356Z
LAST-MODIFIED:20251119T101818Z
UID:10007685-1764697500-1764698400@stutenseekinderkalender.de
SUMMARY:Lebendiger Adventskalender Friedrichstal
DESCRIPTION:Jeden Abend um 17.45 Uhr ist ein adventlich gestaltetes Fenster Treffpunkt\, um in der folgenden Viertelstunde gemeinsam die Vorfreude auf Heiligabend mit Geschichten und Liedern zu feiern.\n\nKommen Sie doch einfach vorbei – egal ob Sie die Gastgeber bereits kennen oder an diesem Abend kennen lernen!
URL:https://stutenseekinderkalender.de/event/lebendiger-adventskalender-friedrichstal/2025-12-02/
LOCATION:Friedrichstal\, Stutensee-Friedrichstal\, 76297\, Germany
ATTACH;FMTTYPE=image/jpeg:https://stutenseekinderkalender.de/wp-content/uploads/2025/11/lebendigeradventskalender2025-Friedrichstal.jpg
ORGANIZER;CN="Ev. Kirchengemeinde Friedrichstal":MAILTO:friedrichstal@kbz.ekiba.de
END:VEVENT
BEGIN:VEVENT
DTSTART;TZID=Europe/Berlin:20251202T153000
DTEND;TZID=Europe/Berlin:20251202T183000
DTSTAMP:20260421T110016
CREATED:20251119T101042Z
LAST-MODIFIED:20251119T102155Z
UID:10008099-1764689400-1764700200@stutenseekinderkalender.de
SUMMARY:Family Adventskalender Spöck
DESCRIPTION:Entdeckt den Advent auf besondere Weise mit dem CVJM Family Adventskalender. \nWann? Täglich vom 1. bis 24. Dezember\, zwischen 15:30 und 18:30 Uhr \nWo? Adventskalender-Stationen des CVJM Spöck \nFreut euch auf ein buntes Programm mit Geschichten\, Liedern\, Gedichten und mehr für die ganze Familie. \nLasst euch überraschen und kommt vorbei!
URL:https://stutenseekinderkalender.de/event/family-adventskalender-spoeck/2025-12-02/
LOCATION:Spöck\, Stutensee-Spöck\, 76297\, Germany
CATEGORIES:Event
ATTACH;FMTTYPE=image/jpeg:https://stutenseekinderkalender.de/wp-content/uploads/2025/11/Family-Adventskalender-Spoeck-Info-1-e1763547024122.jpg
ORGANIZER;CN="CVJM Sp%C3%B6ck e.V.":MAILTO:vorstand@cvjm-spoeck.de
END:VEVENT
BEGIN:VEVENT
DTSTART;TZID=Europe/Berlin:20251201T174500
DTEND;TZID=Europe/Berlin:20251223T180000
DTSTAMP:20260421T110016
CREATED:20251208T113543Z
LAST-MODIFIED:20251208T120348Z
UID:10008397-1764611100-1766512800@stutenseekinderkalender.de
SUMMARY:Lebendiger Adventskalender in Büchig
DESCRIPTION:Beim lebendigen Adventsfenster wird ein festlich geschmücktes und beleuchtetes Fenster präsentiert\, zu dem über den AK Ökumene eingeladen wird. Gemeinsam schaut man das Adventsfenster an\, hört eine Geschichte\, singt ein Lied oder lauscht der Musik – und wer mag\, bietet kleine Leckereien an. Ziel ist es\, den Advent gemeinschaftlich zu gestalten und sich gegenseitig eine schöne\, besinnliche Zeit zu bereiten. \nBeginn ist jeweils um 17:45 Uhr. Findet nicht an allen Tagen statt.
URL:https://stutenseekinderkalender.de/event/lebendiger-adventskalender-in-buechig/2025-12-01/3/
LOCATION:Büchig\, Stutensee-Büchig\, 76297\, Germany
CATEGORIES:Adventsfenster,Event
ATTACH;FMTTYPE=image/png:https://stutenseekinderkalender.de/wp-content/uploads/2025/12/Stutensee-Kinderkalender-Adventskalender-Buechig.png
END:VEVENT
BEGIN:VEVENT
DTSTART;TZID=Europe/Berlin:20251201T174500
DTEND;TZID=Europe/Berlin:20251201T180000
DTSTAMP:20260421T110016
CREATED:20251128T130547Z
LAST-MODIFIED:20251128T223457Z
UID:10008389-1764611100-1764612000@stutenseekinderkalender.de
SUMMARY:Adventsfenster Stutensee-Büchig
DESCRIPTION:Am 1. Dezember findet in der Theodor-Heuss-Grundschule um 17.45 Uhr ein Adventsfenster statt. Es gibt Punsch\, Kuchen und Gepäck auf Spendenbasis. Der Förderverein der Schule richtet dies aus und es kommt allen Schülern der Schule zu Gute. Es werden Unterrichtsmaterialien\, Ausflüge\, Theaterbesuche usw. der Kinder übernommen. Bitte kommt vorbei und unterstützt die Schule.
URL:https://stutenseekinderkalender.de/event/adventsfenster-stutensee-buechig/
LOCATION:Theodor-Heuss-Grundschule Blankenloch-Büchig\, Schwarzwaldstraße 4\, Stutensee-Büchig\, 76297\, Germany
CATEGORIES:Adventsfenster,Adventsfest,Event
ATTACH;FMTTYPE=image/png:https://stutenseekinderkalender.de/wp-content/uploads/2025/11/Stutensee-Kinderkalender.png
END:VEVENT
BEGIN:VEVENT
DTSTART;TZID=Europe/Berlin:20251201T174500
DTEND;TZID=Europe/Berlin:20251201T180000
DTSTAMP:20260421T110016
CREATED:20251119T100356Z
LAST-MODIFIED:20251119T101818Z
UID:10007684-1764611100-1764612000@stutenseekinderkalender.de
SUMMARY:Lebendiger Adventskalender Friedrichstal
DESCRIPTION:Jeden Abend um 17.45 Uhr ist ein adventlich gestaltetes Fenster Treffpunkt\, um in der folgenden Viertelstunde gemeinsam die Vorfreude auf Heiligabend mit Geschichten und Liedern zu feiern.\n\nKommen Sie doch einfach vorbei – egal ob Sie die Gastgeber bereits kennen oder an diesem Abend kennen lernen!
URL:https://stutenseekinderkalender.de/event/lebendiger-adventskalender-friedrichstal/2025-12-01/
LOCATION:Friedrichstal\, Stutensee-Friedrichstal\, 76297\, Germany
ATTACH;FMTTYPE=image/jpeg:https://stutenseekinderkalender.de/wp-content/uploads/2025/11/lebendigeradventskalender2025-Friedrichstal.jpg
ORGANIZER;CN="Ev. Kirchengemeinde Friedrichstal":MAILTO:friedrichstal@kbz.ekiba.de
END:VEVENT
BEGIN:VEVENT
DTSTART;TZID=Europe/Berlin:20251201T153000
DTEND;TZID=Europe/Berlin:20251201T183000
DTSTAMP:20260421T110016
CREATED:20251119T101042Z
LAST-MODIFIED:20251119T102155Z
UID:10008098-1764603000-1764613800@stutenseekinderkalender.de
SUMMARY:Family Adventskalender Spöck
DESCRIPTION:Entdeckt den Advent auf besondere Weise mit dem CVJM Family Adventskalender. \nWann? Täglich vom 1. bis 24. Dezember\, zwischen 15:30 und 18:30 Uhr \nWo? Adventskalender-Stationen des CVJM Spöck \nFreut euch auf ein buntes Programm mit Geschichten\, Liedern\, Gedichten und mehr für die ganze Familie. \nLasst euch überraschen und kommt vorbei!
URL:https://stutenseekinderkalender.de/event/family-adventskalender-spoeck/2025-12-01/
LOCATION:Spöck\, Stutensee-Spöck\, 76297\, Germany
CATEGORIES:Event
ATTACH;FMTTYPE=image/jpeg:https://stutenseekinderkalender.de/wp-content/uploads/2025/11/Family-Adventskalender-Spoeck-Info-1-e1763547024122.jpg
ORGANIZER;CN="CVJM Sp%C3%B6ck e.V.":MAILTO:vorstand@cvjm-spoeck.de
END:VEVENT
BEGIN:VEVENT
DTSTART;TZID=Europe/Berlin:20251201T080000
DTEND;TZID=Europe/Berlin:20251201T170000
DTSTAMP:20260421T110016
CREATED:20251208T113543Z
LAST-MODIFIED:20251208T120348Z
UID:10008399-1764576000-1764608400@stutenseekinderkalender.de
SUMMARY:Lebendiger Adventskalender in Büchig
DESCRIPTION:Beim lebendigen Adventsfenster wird ein festlich geschmücktes und beleuchtetes Fenster präsentiert\, zu dem über den AK Ökumene eingeladen wird. Gemeinsam schaut man das Adventsfenster an\, hört eine Geschichte\, singt ein Lied oder lauscht der Musik – und wer mag\, bietet kleine Leckereien an. Ziel ist es\, den Advent gemeinschaftlich zu gestalten und sich gegenseitig eine schöne\, besinnliche Zeit zu bereiten. \nBeginn ist jeweils um 17:45 Uhr. Findet nicht an allen Tagen statt.
URL:https://stutenseekinderkalender.de/event/lebendiger-adventskalender-in-buechig/2025-12-01/1/
LOCATION:Büchig\, Stutensee-Büchig\, 76297\, Germany
CATEGORIES:Adventsfenster,Event
ATTACH;FMTTYPE=image/png:https://stutenseekinderkalender.de/wp-content/uploads/2025/12/Stutensee-Kinderkalender-Adventskalender-Buechig.png
END:VEVENT
BEGIN:VEVENT
DTSTART;TZID=Europe/Berlin:20251130T000000
DTEND;TZID=Europe/Berlin:20251130T235959
DTSTAMP:20260421T110016
CREATED:20251122T225041Z
LAST-MODIFIED:20251122T230128Z
UID:10008386-1764460800-1764547199@stutenseekinderkalender.de
SUMMARY:Kinderweihnachtsbaum auf dem Ponyhof
DESCRIPTION:Auf dem Ponyhof steht dieses Jahr der erste Kinderweihnachtsbaum – und alle Kinder dürfen ihn schmücken!Ob Kugeln\, Sterne\, Selbstgebasteltes oder kleine Wünsche – alles darf aufgehängt werden.Eingeladen sind wirklich alle: Kinder jeden Alters\, Eltern\, Großeltern\, Nachbarn\, Spaziergänger*innen mit Hund… jeder\, der Freude daran hat. \nEine wunderschöne Aktion zum Start in die Adventszeit! \nWeitere Infos: 01715237400 \n  
URL:https://stutenseekinderkalender.de/event/kinderweihnachtsbaum-auf-dem-ponyhof/
LOCATION:Pferde- und Ponyhof Mohrhardt\, Pfinzstraße 10\, Stutensee\, 76297
CATEGORIES:Event
ATTACH;FMTTYPE=image/jpeg:https://stutenseekinderkalender.de/wp-content/uploads/2025/11/Advent-Ponyhof_1-2-e1763852482665.jpg
ORGANIZER;CN="Pferde- und Ponyhof Mohrhardt":MAILTO:mail@pferdehof-mohrhardt.de
END:VEVENT
BEGIN:VEVENT
DTSTART;TZID=Europe/Berlin:20251129T150000
DTEND;TZID=Europe/Berlin:20251129T200000
DTSTAMP:20260421T110016
CREATED:20251103T231528Z
LAST-MODIFIED:20251103T231528Z
UID:10007391-1764428400-1764446400@stutenseekinderkalender.de
SUMMARY:3. Adventszauber des DRK Spöck
DESCRIPTION:Das Deutsche Rote Kreuz Spöck lädt herzlich zum 3. Adventszauber ein! Genießt mit Familie und Freunden die vorweihnachtliche Atmosphäre mit Glühwein\, Kinderpunsch\, Bratwürsten\, Gulaschsuppe und frisch gebackenen Waffeln. \nEin besonderes Highlight ist die Fahrzeugtaufe des neuen MTW mit Fassanstich um 16 Uhr.Für die Kleinen bietet die Jugendgruppe kreative Beschäftigungen\, während im Innenbereich ein gemütlicher Adventsbasar mit Handgemachtem wartet. \nAb 16:30 Uhr sorgt der Musikverein Harmonie Spöck für festliche musikalische Begleitung. \nKommt vorbei\, genießt den Adventszauber und startet gemeinsam mit dem DRK Spöck in die schönste Zeit des Jahres!
URL:https://stutenseekinderkalender.de/event/3-adventszauber-des-drk-spoeck/
LOCATION:DRK Ortsverein Spöck e.V.\, Friedrichstraße 10\, Stutensee-Spöck\, 76297\, Germany
CATEGORIES:Adventsbasar,Event,Fest
ATTACH;FMTTYPE=image/png:https://stutenseekinderkalender.de/wp-content/uploads/2025/11/Adventzauber-DRK-Spoeck-e1762211721492.png
END:VEVENT
BEGIN:VEVENT
DTSTART;TZID=Europe/Berlin:20251109T130000
DTEND;TZID=Europe/Berlin:20251109T170000
DTSTAMP:20260421T110016
CREATED:20251105T214125Z
LAST-MODIFIED:20251105T214253Z
UID:10007397-1762693200-1762707600@stutenseekinderkalender.de
SUMMARY:Kreatives Handgemachtes & Secondhand zum Advent
DESCRIPTION:Im Mehrgenerationenhaus wird es gemütlich: Beim Adventsmarkt findest du liebevoll handgemachte Produkte\, Weihnachtsdeko und Secondhand-Schätze.\nDazu gibt’s Kaffee & selbstgebackenen Kuchen – perfekt für einen entspannten Sonntagnachmittag. \nHighlights: \n\nGestrickte & gehäkelte Accessoires\nMarmeladen & Brombeer-Essig\nGeschenkartikel & Spielsachen\nNachhaltig shoppen und Gutes tun\n\nEin gemütlicher Treffpunkt für alle\, die Handgemachtes und Nachhaltigkeit lieben.
URL:https://stutenseekinderkalender.de/event/kreatives-handgemachtes-secondhand-zum-advent/
LOCATION:Mehrgenerationenhaus Stutensee-Blankenloch\, Seegrabenweg 5\, Stutensee\, 76297\, Germany
CATEGORIES:Adventsmarkt,Event
ATTACH;FMTTYPE=image/jpeg:https://stutenseekinderkalender.de/wp-content/uploads/2025/11/Secondhand-zum-Advent-MGH-Blankenloch-e1762378967113.jpg
END:VEVENT
END:VCALENDAR