BEGIN:VCALENDAR
VERSION:2.0
PRODID:-//Stutensee-Kinderkalender - ECPv6.15.20//NONSGML v1.0//EN
CALSCALE:GREGORIAN
METHOD:PUBLISH
X-WR-CALNAME:Stutensee-Kinderkalender
X-ORIGINAL-URL:https://stutenseekinderkalender.de
X-WR-CALDESC:Veranstaltungen für Stutensee-Kinderkalender
REFRESH-INTERVAL;VALUE=DURATION:PT1H
X-Robots-Tag:noindex
X-PUBLISHED-TTL:PT1H
BEGIN:VTIMEZONE
TZID:Europe/Berlin
BEGIN:DAYLIGHT
TZOFFSETFROM:+0100
TZOFFSETTO:+0200
TZNAME:CEST
DTSTART:20250330T010000
END:DAYLIGHT
BEGIN:STANDARD
TZOFFSETFROM:+0200
TZOFFSETTO:+0100
TZNAME:CET
DTSTART:20251026T010000
END:STANDARD
BEGIN:DAYLIGHT
TZOFFSETFROM:+0100
TZOFFSETTO:+0200
TZNAME:CEST
DTSTART:20260329T010000
END:DAYLIGHT
BEGIN:STANDARD
TZOFFSETFROM:+0200
TZOFFSETTO:+0100
TZNAME:CET
DTSTART:20261025T010000
END:STANDARD
BEGIN:DAYLIGHT
TZOFFSETFROM:+0100
TZOFFSETTO:+0200
TZNAME:CEST
DTSTART:20270328T010000
END:DAYLIGHT
BEGIN:STANDARD
TZOFFSETFROM:+0200
TZOFFSETTO:+0100
TZNAME:CET
DTSTART:20271031T010000
END:STANDARD
END:VTIMEZONE
BEGIN:VEVENT
DTSTART;TZID=Europe/Berlin:20260627T110000
DTEND;TZID=Europe/Berlin:20260627T160000
DTSTAMP:20260420T174701
CREATED:20260328T201315Z
LAST-MODIFIED:20260328T201315Z
UID:10010150-1782558000-1782576000@stutenseekinderkalender.de
SUMMARY:4. Blankenlocher Ortsflohmarkt
DESCRIPTION:Stöbern\, entdecken und verkaufen – der große Ortsflohmarkt in Blankenloch lädt euch ein. Perfekt für Familien\, Schnäppchenjäger und alle\, die gerne bummeln.
URL:https://stutenseekinderkalender.de/event/4-blankenlocher-ortsflohmarkt/
LOCATION:Festhalle Blankenloch\, Badstraße 7\, Stutensee\, 76297\, Germany
CATEGORIES:Flohmarkt
ATTACH;FMTTYPE=image/jpeg:https://stutenseekinderkalender.de/wp-content/uploads/2026/03/Blankenloch-Ortsflohmarkt-2026-1-e1774728764689.jpg
END:VEVENT
END:VCALENDAR