BEGIN:VCALENDAR
VERSION:2.0
PRODID:-//Stutensee-Kinderkalender - ECPv6.15.20//NONSGML v1.0//EN
CALSCALE:GREGORIAN
METHOD:PUBLISH
X-WR-CALNAME:Stutensee-Kinderkalender
X-ORIGINAL-URL:https://stutenseekinderkalender.de
X-WR-CALDESC:Veranstaltungen für Stutensee-Kinderkalender
REFRESH-INTERVAL;VALUE=DURATION:PT1H
X-Robots-Tag:noindex
X-PUBLISHED-TTL:PT1H
BEGIN:VTIMEZONE
TZID:Europe/Berlin
BEGIN:DAYLIGHT
TZOFFSETFROM:+0100
TZOFFSETTO:+0200
TZNAME:CEST
DTSTART:20250330T010000
END:DAYLIGHT
BEGIN:STANDARD
TZOFFSETFROM:+0200
TZOFFSETTO:+0100
TZNAME:CET
DTSTART:20251026T010000
END:STANDARD
BEGIN:DAYLIGHT
TZOFFSETFROM:+0100
TZOFFSETTO:+0200
TZNAME:CEST
DTSTART:20260329T010000
END:DAYLIGHT
BEGIN:STANDARD
TZOFFSETFROM:+0200
TZOFFSETTO:+0100
TZNAME:CET
DTSTART:20261025T010000
END:STANDARD
BEGIN:DAYLIGHT
TZOFFSETFROM:+0100
TZOFFSETTO:+0200
TZNAME:CEST
DTSTART:20270328T010000
END:DAYLIGHT
BEGIN:STANDARD
TZOFFSETFROM:+0200
TZOFFSETTO:+0100
TZNAME:CET
DTSTART:20271031T010000
END:STANDARD
END:VTIMEZONE
BEGIN:VEVENT
DTSTART;TZID=Europe/Berlin:20260325T093000
DTEND;TZID=Europe/Berlin:20260325T120000
DTSTAMP:20260422T134746
CREATED:20251010T220044Z
LAST-MODIFIED:20251013T115239Z
UID:10005542-1774431000-1774440000@stutenseekinderkalender.de
SUMMARY:Krabbelgruppe im ev. Gemeindehaus Staffort
DESCRIPTION:Bist du im Alter von 0 bis 3 Jahren?\nDann komm doch zum…\n\n… Spielen\n… Singen\n… Freunde finden\n… Basteln und Malen\n… Feste feiern\nund weitere Aktionen in die Krabbelgruppe.\n\nWir freuen uns auf dich!\n\nAnsprechpartner: Janine Kirchner
URL:https://stutenseekinderkalender.de/event/krabbelgruppe-im-ev-gemeindehaus-staffort/2026-03-25/
LOCATION:Ev. Gemeindehaus Staffort\, Gartenstraße 31\, Stutensee-Staffort\, 76297\, Germany
CATEGORIES:Eltern-Baby-Treff,Eltern-Kind-Treff,Elterncafé,Krabbelgruppe
ATTACH;FMTTYPE=image/png:https://stutenseekinderkalender.de/wp-content/uploads/2025/10/31.png
ORGANIZER;CN="Kirchengemeinde Staffort-B%C3%BCchenau":MAILTO:staffort-buechenau@kbz.ekiba.de
END:VEVENT
BEGIN:VEVENT
DTSTART;TZID=Europe/Berlin:20260325T100000
DTEND;TZID=Europe/Berlin:20260325T113000
DTSTAMP:20260422T134746
CREATED:20251010T224657Z
LAST-MODIFIED:20251012T115554Z
UID:10004437-1774432800-1774438200@stutenseekinderkalender.de
SUMMARY:Eltern-Kind-Kreis in Friedrichstal
DESCRIPTION:Ein Treffpunkt für Mütter und Väter mit Kindern von 0–3 Jahren. Jeden Mittwoch\, 10:00 – 11:30 Uhr. Gemeinsam wird gesungen\, gespielt\, gebastelt und gelacht. Die Kinder entdecken die Welt\, während die Eltern sich austauschen und neue Kontakte knüpfen können. Hin und wieder steht auch ein gemeinsames Frühstück oder Bastelangebot auf dem Programm. \nAnsprechpartnerin: Corinna Konrad\, 01725618123
URL:https://stutenseekinderkalender.de/event/eltern-kind-kreis-in-friedrichstal/2026-03-25/
LOCATION:Ev. Gemeindehaus Friedrichstal\, Hirschstraße 22\, Stutensee\, 76297\, Germany
CATEGORIES:Eltern-Baby-Treff,Eltern-Kind-Treff,Elterncafé,Krabbelgruppe
ATTACH;FMTTYPE=image/png:https://stutenseekinderkalender.de/wp-content/uploads/2025/10/eltern-kind-kreis_friedrichstal.png
ORGANIZER;CN="Ev. Kirchengemeinde Friedrichstal":MAILTO:friedrichstal@kbz.ekiba.de
END:VEVENT
BEGIN:VEVENT
DTSTART;TZID=Europe/Berlin:20260325T133000
DTEND;TZID=Europe/Berlin:20260325T143000
DTSTAMP:20260422T134746
CREATED:20260322T202504Z
LAST-MODIFIED:20260322T202504Z
UID:10010141-1774445400-1774449000@stutenseekinderkalender.de
SUMMARY:Kuchenverkauf & Osterbasteleien - Kita Lachwald
DESCRIPTION:Kommt vorbei zum gemütlichen Kuchenverkauf mit Osterbasteleien!Perfekt für einen kleinen Familienausflug – und gleichzeitig unterstützt ihr einen guten Zweck. \nAm Mittwoch\, 25.03.2026 \nUhrzeiten:• 13:30 – 14:30 Uhr• 15:30 – 16:30 Uhr \nOrt:Parkplatz vor der Kita (Buchenring) \nDer Erlös geht zugunsten des Kindergartens Lachwald \nHinweis:Wenn möglich\, bitte eigene Behälter für den Kuchentransport mitbringen
URL:https://stutenseekinderkalender.de/event/kuchenverkauf-osterbasteleien-kita-lachwald/2026-03-25/1/
LOCATION:Städtischer Kindergarten „Lachwald“\, Lindenweg 8\, Stutensee-Büchig\, 76298
CATEGORIES:Event,Kreativangebot
ATTACH;FMTTYPE=image/jpeg:https://stutenseekinderkalender.de/wp-content/uploads/2026/03/Kuchenverkauf-Lachwald-1-e1774211095378.jpg
END:VEVENT
BEGIN:VEVENT
DTSTART;TZID=Europe/Berlin:20260325T140000
DTEND;TZID=Europe/Berlin:20260325T150000
DTSTAMP:20260422T134746
CREATED:20260322T203507Z
LAST-MODIFIED:20260322T203507Z
UID:10010143-1774447200-1774450800@stutenseekinderkalender.de
SUMMARY:Elterncafé mit Erzähltheater "Elmar" - Kita Zauberwald
DESCRIPTION:Ein besonderes Elterncafé mit einem liebevoll gestalteten Erzähltheater für Kinder und Familien. Im Mittelpunkt steht die Geschichte von Elmar\, dem bunt karierten Elefanten – kindgerecht erzählt mit Bildkarten und viel Raum für Austausch. \nDie Veranstaltung findet im Rahmen der „Wochen gegen Rassismus“ statt und setzt ein Zeichen für Toleranz und Respekt. \nEin wertvoller Nachmittag für Kinder und Eltern – zum Zuhören\, Nachdenken und Austauschen.
URL:https://stutenseekinderkalender.de/event/elterncafe-mit-erzaehltheater-elmar-kita-zauberwald/
LOCATION:Kindergarten Zauberwald\, Hauptstraße 100\, Stutensee-Blankenloch
CATEGORIES:Eltern-Kind-Treff,Elterncafé,Fest,Freizeitangebot,Lesung
ATTACH;FMTTYPE=image/jpeg:https://stutenseekinderkalender.de/wp-content/uploads/2026/03/Elterncafe-Zauberwald-1-e1774211700882.jpg
END:VEVENT
BEGIN:VEVENT
DTSTART;TZID=Europe/Berlin:20260325T150000
DTEND;TZID=Europe/Berlin:20260325T170000
DTSTAMP:20260422T134746
CREATED:20260118T210537Z
LAST-MODIFIED:20260118T210537Z
UID:10008687-1774450800-1774458000@stutenseekinderkalender.de
SUMMARY:Spielzeit im GrauBau
DESCRIPTION:In der Spielzeit im GrauBau erwartet euch jede Woche ein neues Abenteuer: spannende Experimente\, kreative Bastelaktionen\, Bewegungsspiele\, Filme und gemeinsames Kochen oder Backen. Für Kinder zwischen 6 und 10 Jahren. \nJeden Mittwoch\, 15:00 – 17:00 Uhr \nDas Programm auf www.graubau-stutensee.de/open/ \nVeranstalter & KontaktTelefon: 07244969-276E-Mail: patricia.pichlardt@stutensee.de
URL:https://stutenseekinderkalender.de/event/spielzeit-im-graubau-3/2026-03-25/
LOCATION:GrauBau Jugendzentrum Stutensee\, Seegrabenweg 7\, Stutensee\, 76297\, Germany
CATEGORIES:Freizeitangebot,Kinderbetreuung,Kindertreff,Kreativangebot
ATTACH;FMTTYPE=image/jpeg:https://stutenseekinderkalender.de/wp-content/uploads/2025/10/graubau_spielzeit-e1759588536926.jpg
ORGANIZER;CN="GrauBau Jugendzentrum Stutensee":MAILTO:graubau@stutensee.de
END:VEVENT
BEGIN:VEVENT
DTSTART;TZID=Europe/Berlin:20260325T153000
DTEND;TZID=Europe/Berlin:20260325T154500
DTSTAMP:20260422T134746
CREATED:20260227T125110Z
LAST-MODIFIED:20260227T130913Z
UID:10010094-1774452600-1774453500@stutenseekinderkalender.de
SUMMARY:Erzähltheater zu den Internationalen Wochen gegen Rassismus in Staffort
DESCRIPTION:Im Erzähltheater wird dieses Mal die Geschichte „Als die Raben noch bunt waren“ gezeigt. In der Geschichte geht es um wunderbar kunterbunte Raben\, die sich eines Tages streiten\, wer der schönste von ihnen sei. Und dann passiert etwas Unerwartetes… \nEine Geschichte über Toleranz\, Vielfalt und Gemeinschaft für Kinder ab 5 Jahren. \nUm Anmeldung wird gebeten per Mail an maria.toth@stutensee.de oder telefonisch unter 07244/969-4270.
URL:https://stutenseekinderkalender.de/event/erzaehltheater-zu-den-internationalen-wochen-gegen-rassismus-in-staffort/
LOCATION:Stadtbibliothek Staffort\, Draisstraße 2\, Stutensee-Staffort\, 76297
CATEGORIES:Event
ATTACH;FMTTYPE=image/png:https://stutenseekinderkalender.de/wp-content/uploads/2026/02/Erzaehltheater-gegen-Rassismus.png
ORGANIZER;CN="Stadtbibliothek Staffort":MAILTO:Staffort.Stadtbibliothek@stutensee.de 
END:VEVENT
BEGIN:VEVENT
DTSTART;TZID=Europe/Berlin:20260325T153000
DTEND;TZID=Europe/Berlin:20260325T163000
DTSTAMP:20260422T134746
CREATED:20260322T202504Z
LAST-MODIFIED:20260322T202504Z
UID:10010142-1774452600-1774456200@stutenseekinderkalender.de
SUMMARY:Kuchenverkauf & Osterbasteleien - Kita Lachwald
DESCRIPTION:Kommt vorbei zum gemütlichen Kuchenverkauf mit Osterbasteleien!Perfekt für einen kleinen Familienausflug – und gleichzeitig unterstützt ihr einen guten Zweck. \nAm Mittwoch\, 25.03.2026 \nUhrzeiten:• 13:30 – 14:30 Uhr• 15:30 – 16:30 Uhr \nOrt:Parkplatz vor der Kita (Buchenring) \nDer Erlös geht zugunsten des Kindergartens Lachwald \nHinweis:Wenn möglich\, bitte eigene Behälter für den Kuchentransport mitbringen
URL:https://stutenseekinderkalender.de/event/kuchenverkauf-osterbasteleien-kita-lachwald/2026-03-25/2/
LOCATION:Städtischer Kindergarten „Lachwald“\, Lindenweg 8\, Stutensee-Büchig\, 76298
CATEGORIES:Event,Kreativangebot
ATTACH;FMTTYPE=image/jpeg:https://stutenseekinderkalender.de/wp-content/uploads/2026/03/Kuchenverkauf-Lachwald-1-e1774211095378.jpg
END:VEVENT
END:VCALENDAR